BEGIN:VCALENDAR
VERSION:2.0
PRODID:-//Calgary Pride - ECPv6.15.20//NONSGML v1.0//EN
CALSCALE:GREGORIAN
METHOD:PUBLISH
X-ORIGINAL-URL:https://calgarypride.ca
X-WR-CALDESC:Events for Calgary Pride
REFRESH-INTERVAL;VALUE=DURATION:PT1H
X-Robots-Tag:noindex
X-PUBLISHED-TTL:PT1H
BEGIN:VTIMEZONE
TZID:America/Edmonton
BEGIN:DAYLIGHT
TZOFFSETFROM:-0700
TZOFFSETTO:-0600
TZNAME:MDT
DTSTART:20210314T090000
END:DAYLIGHT
BEGIN:STANDARD
TZOFFSETFROM:-0600
TZOFFSETTO:-0700
TZNAME:MST
DTSTART:20211107T080000
END:STANDARD
BEGIN:DAYLIGHT
TZOFFSETFROM:-0700
TZOFFSETTO:-0600
TZNAME:MDT
DTSTART:20220313T090000
END:DAYLIGHT
BEGIN:STANDARD
TZOFFSETFROM:-0600
TZOFFSETTO:-0700
TZNAME:MST
DTSTART:20221106T080000
END:STANDARD
BEGIN:DAYLIGHT
TZOFFSETFROM:-0700
TZOFFSETTO:-0600
TZNAME:MDT
DTSTART:20230312T090000
END:DAYLIGHT
BEGIN:STANDARD
TZOFFSETFROM:-0600
TZOFFSETTO:-0700
TZNAME:MST
DTSTART:20231105T080000
END:STANDARD
END:VTIMEZONE
BEGIN:VEVENT
DTSTART;VALUE=DATE:20220717
DTEND;VALUE=DATE:20220923
DTSTAMP:20260424T143548
CREATED:20220627T205631Z
LAST-MODIFIED:20220627T205631Z
UID:59079-1658030400-1663819199@calgarypride.ca
SUMMARY:Summer on 17th
DESCRIPTION:Summer on 17th is a massive free event taking place in Tomkins Park from July 1 to September 21. It will kick off on Canada Day with live music\, hoop dancing\, and tons of other performers from 11 a.m. to 4 p.m. and will continue with free events and live music from July 8 to July 16 for Stampede. Starting on July 17\, you can enjoy free events in Tomkins Park five days a week including live music\, outdoor fitness classes\, DJ and drag shows\, outdoor movies and more. There’s no shortage of things to do this Summer on 17th! Find full event details at www.17thave.ca/summer
URL:https://calgarypride.ca/event/summer-on-17th/
LOCATION:Tomkins Park\, 17th Ave SW & 8th Street SW\, Calgary\, AL\, T2R 1K1
ATTACH;FMTTYPE=image/jpeg:https://calgarypride.ca/wp-content/uploads/2022/06/summeron17th-1.jpg
ORGANIZER;CN="17th Ave":MAILTO:social@17thave.ca
END:VEVENT
BEGIN:VEVENT
DTSTART;TZID=America/Edmonton:20220806T120000
DTEND;TZID=America/Edmonton:20220806T170000
DTSTAMP:20260424T143548
CREATED:20220706T191930Z
LAST-MODIFIED:20220706T191930Z
UID:59269-1659787200-1659805200@calgarypride.ca
SUMMARY:Hound n' Sound - Centennial Celebration
DESCRIPTION:Calgary Humane Society is celebrating its 100th Birthday! For the past 100 years\, we are proud to call ourselves leaders in animal welfare and have cared for thousands of animals in need. Our mission remains the same\, to care for as many animals as we can. \nTo celebrate this significant milestone\, we invite the entire community of Calgary to join in on the fun! \nOn August 6th\, head down to the Calgary Humane Society Park for an outdoor\, family-friendly festival-style event! The celebration will mark both our Centennial occasion and the completion of our facility enhancement project\, a $14 million expansion of the shelter. \nHound n’ Sound will showcase local entertainment\, featuring the Frontiers\, carnival games for all ages\, kids’ zone\, YYC food trucks\, a Cold Garden beer area\, a PUPPY CAKE SMASH and so much more!. Keep an eye out for our incredibly cute adoptable animals roaming the area\, saying hello to our guests and looking for their forever home. \nWe can’t wait to see you there! \nLearn more about Calgary Humane Society at www.calgaryhumane.ca
URL:https://calgarypride.ca/event/hound-n-sound-centennial-celebration/
LOCATION:Calgary Humane Society\, 4455 110 ave SE\, Calgary\, Alberta\, T2C2T7\, Canada
CATEGORIES:Community Event,DJ,Festival,Food & Drink,musician
ATTACH;FMTTYPE=image/jpeg:https://calgarypride.ca/wp-content/uploads/2022/07/Web-Ad-1080-x-1080-Dog-3-v1-June-13-2022.jpg
END:VEVENT
BEGIN:VEVENT
DTSTART;TZID=America/Edmonton:20220819T190000
DTEND;TZID=America/Edmonton:20220819T213000
DTSTAMP:20260424T143548
CREATED:20220819T195802Z
LAST-MODIFIED:20220819T195850Z
UID:59651-1660935600-1660944600@calgarypride.ca
SUMMARY:Licks & Tricks
DESCRIPTION:A Queer friendly evening of Music & Magic\nSaturday Sept 3rd\nHaysboro Community Centre\n1204 89 Ave SW\, Calgary \nMusic by Bullets & Bronze\nMagic by Ryan Pilling \n$15 in Advance\n$20 at the door \nAnybody using the password “happy pride” or obviously celebrating pride can have tickets at the door for the advance price of $15 \nCome listen to music queer inspired music by Andrew Abildgaard’s band – Bullets & Bronze and a Magic Performance by Ryan Pilling as they each celebrate pride doing what they do best – fighting for stage time.
URL:https://calgarypride.ca/event/licks-tricks/
LOCATION:Haysboro Community Centre\, 1204 89 Ave SW\, Calgary\, Alberta\, T2V 0W4\, Canada
CATEGORIES:#OurPride Resource,Band,comedy,musician,QTBIPOC
ATTACH;FMTTYPE=image/jpeg:https://calgarypride.ca/wp-content/uploads/2022/08/licksandtrickspride.jpg
ORGANIZER;CN="Studio Zero":MAILTO:andrew.abildgaard@shaw.ca
END:VEVENT
BEGIN:VEVENT
DTSTART;TZID=America/Edmonton:20220823T170000
DTEND;TZID=America/Edmonton:20220823T200000
DTSTAMP:20260424T143548
CREATED:20220816T205414Z
LAST-MODIFIED:20220816T205414Z
UID:59487-1661274000-1661284800@calgarypride.ca
SUMMARY:Go Toxin Free for Calgary Outlink
DESCRIPTION:Go Toxin Free for Calgary Outlink: Free of toxic chemicals + toxic masculinity \nJoin us on Tuesday August 23rd\, 2022 from 5pm-8pm at Rising Tides Taproom and Greenbriar Market in beautiful Montgomery in support of Calgary Outlink. \n💅🏽 – For a minimum $10 donation to Calgary Outlink\, you can have your nails painted in 21 Free Nail Polish graciously donated by BKIND. Choose from colours inspired by the Pride and Trans Flags🏳️‍🌈🏳️‍⚧️ \n🍻 – Experience High Tide 🌊 at Rising Tides Taproom where $1 from every draft will be donated to Calgary Outlink. \n🛍 – Shop for a Cause 💕at Greenbriar Market + Refillery and have 5% of your purchases made during the event donated to Calgary Outlink. \nYou can pre-purchase your nail painting spot on the Greenbriar Market website or purchase at the door at Greenbriar Market or Rising Tides. \nWe look forward to seeing you there! \nCalgary Outlink Centre for Gender and Sexual Diversity is a community-based\, not-for-profit charity dedicated to providing support\, education\, outreach\, and referrals for the 2SLGBTQIA+ and allied communities in Calgary\, Alberta. Outlink believes in the power of community with community\, and champions the need for care and belonging.
URL:https://calgarypride.ca/event/go-toxin-free-for-calgary-outlink/
LOCATION:AB
CATEGORIES:Community Event
ATTACH;FMTTYPE=image/jpeg:https://calgarypride.ca/wp-content/uploads/2022/08/Go-Toxin-Free-for-Calgary-OUtlink-scaled.jpg
END:VEVENT
BEGIN:VEVENT
DTSTART;TZID=America/Edmonton:20220826T220000
DTEND;TZID=America/Edmonton:20220826T233000
DTSTAMP:20260424T143548
CREATED:20220815T173101Z
LAST-MODIFIED:20220819T165421Z
UID:59481-1661551200-1661556600@calgarypride.ca
SUMMARY:Indigi-Hauz Takeover at Fairmont Palliser
DESCRIPTION:We are excited to kick off Calgary Pride with a drag night fit for a QUEEN! \nDon’t miss Calgary’s first ever Indigi-Hauz Takeover at Calgary’s most iconic hotel\, Fairmont Palliser! Experience the grandest of drag and energy with Indigi-Hauz’s five stunning Indigenous and 2-Spirit drag performers\, co-hosted by Cedar T & Lodonna Cree on Friday\, August 26. Grab your feather boas\, wigs and eye lashes Calgary and watch as their energy fills the room! Show starts at 10 pm in Hawthorn Bar & Lounge.
URL:https://calgarypride.ca/event/indigi-hauz-takeover-at-fairmont-palliser/
LOCATION:Fairmont Palliser\, Calgary\, 133 9 Avenue Southwest\, Calgary\, AB\, T2P 2M3\, Canada
CATEGORIES:Drag,Drag - Group,Food & Drink,Indigenous Events
ATTACH;FMTTYPE=image/jpeg:https://calgarypride.ca/wp-content/uploads/2022/08/PRIDE-DRAG-1200-×-628-px-1.jpg
END:VEVENT
BEGIN:VEVENT
DTSTART;TZID=America/Edmonton:20220827T120000
DTEND;TZID=America/Edmonton:20220827T210000
DTSTAMP:20260424T143548
CREATED:20220816T210043Z
LAST-MODIFIED:20220816T210043Z
UID:59566-1661601600-1661634000@calgarypride.ca
SUMMARY:Calgary Pride in the Park Kickoff
DESCRIPTION:Join us for the Calgary Pride Kickoff at Central Memorial Park on Saturday\, August 27! This free and accessible event starts at 12PM and will feature family-friendly performances and music\, local vendors\, and food trucks. At 7:30PM we will be screening ‘Kiki’ in the park\, we encourage folks to bring their own chairs\, blankets\, snacks\, and drinks for the screening.
URL:https://calgarypride.ca/event/calgary-pride-in-the-park-kickoff/
LOCATION:Central Memorial Park\, 1221 2 St SW\, Calgary\, Alberta\, Canada
CATEGORIES:Community Event,DJ,Drag
ATTACH;FMTTYPE=image/jpeg:https://calgarypride.ca/wp-content/uploads/2022/08/August-2022-Social-Media-1-scaled.jpg
END:VEVENT
BEGIN:VEVENT
DTSTART;TZID=America/Edmonton:20220827T140000
DTEND;TZID=America/Edmonton:20220827T153000
DTSTAMP:20260424T143548
CREATED:20220808T164639Z
LAST-MODIFIED:20220808T164732Z
UID:59428-1661608800-1661614200@calgarypride.ca
SUMMARY:Kevin Allen — Our Past Matters: Stories of Gay Calgary w/ Open Mic
DESCRIPTION:Join Shelf Life Books and Kevin Allen for a talk about his book Our Past Matters: Stories of Gay Calgary. Registration for audience attendance is recommended and appreciated! \nThe talk will be followed by an open mic\, where audience members can share their stories of Gay Calgary or read poems or prose pieces (with a 6-8 minute time slot limit). If you identify as a part of the 2SLGBTQ+ community and would like to participate\, then please let us know at events@shelflifebooks.ca! You can also sign up before the event\, space permitted. \nMasks are voluntary\, but appreciated! \nABOUT THE BOOK\nKevin Allen’s\, Our Past Matters: Stories of Gay Calgary walks the reader through the back alleys and underground gathering spaces of the city’s early gay community. Meet the characters\, martyrs and heroes who helped forge the LGBTQ2 human rights we have today. This entertaining and authoritative account of a Calgary few know is a major addition to the many-hued and complex tales of the city. He reveals: “We were here\, and we always have been.” \n“You are going to read about some amazing people\, places\, and times in these pages… There is no one better equipped than Kevin Allen to give us a tour.” – John Ibbitson\, The Globe and Mail. Governor General’s History Award for Excellence in Community Programming Finalist 2019. Next Generation Indie Book Awards Finalist 2020. \nABOUT THE AUTHOR\nKevin is the Research Lead of the Calgary Gay History Project\, a research collective working to uncover and preserve stories from Calgary’s LGBTQ2 past. The Project achieved national recognition twice at the Governor General’s History Awards\, and its research has been covered in local and national media. Kevin was the inaugural Historian in Residence at Calgary’s New Central Library in November 2018\, where he launched his bestselling book\, Our Past Matters: Stories of Gay Calgary. \nBooks
URL:https://calgarypride.ca/event/kevin-allen-our-past-matters-stories-of-gay-calgary-w-open-mic/
LOCATION:Shelf Life Books\, 1302 – 4th Street SW\, Calgary\, Alberta\, Canada
ATTACH;FMTTYPE=image/png:https://calgarypride.ca/wp-content/uploads/2022/08/Screen-Shot-2022-08-07-at-3.38.05-PM.png
END:VEVENT
BEGIN:VEVENT
DTSTART;TZID=America/Edmonton:20220827T190000
DTEND;TZID=America/Edmonton:20220827T233000
DTSTAMP:20260424T143548
CREATED:20220706T191708Z
LAST-MODIFIED:20220706T191708Z
UID:59247-1661626800-1661643000@calgarypride.ca
SUMMARY:"RAIN OF STARS" A REAL SHOW
DESCRIPTION:Hola mi gente!! 🥰 “RAIN OF STARS” A REAL SHOW\, Directly from Mexico an incredible Impersonators/Drag queen show will arrive to Canada this summer for Calgary Pride Week Celebration\, Spanish and English singers characterization: Lady Gaga\, Karol G\, Monica Naranjo\, Britney Spears\, Cher\, Nicky Minaj\, Jenny Rivera.\nFeaturing: KATHERINE SPEARS\, DENISSE VALENZUELA\, Hosted by PACKO SANZ & MUSIC BY GUEST DJ\nCome and join us for an amazing pride night on Saturday August 27th 7:30 PM-2:00 AM and Sunday Brunch August 28th 12:00PM-3:00 PM\,\nAdvanced Tickets $20-40\nhttps://www.eventbrite.com/…/rain-of-stars-a-real-show…\nReservations: 403-452-8060 Info: WhatsApp 825-994-0907\nVenue: Mikey’s on 12 Ave SW
URL:https://calgarypride.ca/event/rain-of-stars-a-real-show/
LOCATION:Mikey’s on 12th\, 918 12 Ave SW\, Calgary\, Alberta\, T2R 0J4\, Canada
CATEGORIES:Drag - Group
ATTACH;FMTTYPE=image/jpeg:https://calgarypride.ca/wp-content/uploads/2022/07/flyer-HIST-WEB-1-scaled.jpg
ORGANIZER;CN="Packo Sanz":MAILTO:paccko74@hotmail.com
END:VEVENT
BEGIN:VEVENT
DTSTART;TZID=America/Edmonton:20220828T103000
DTEND;TZID=America/Edmonton:20220828T120000
DTSTAMP:20260424T143548
CREATED:20220802T163545Z
LAST-MODIFIED:20220802T163646Z
UID:59376-1661682600-1661688000@calgarypride.ca
SUMMARY:4th Annual Citywide Pride Service
DESCRIPTION:4th Annual Citywide Pride Service\nSunday\, August 28\, 10:30am MDT \nIn person at Scarboro United Church and live-streamed. Calgary’s Network of Affirming Faith Communities and Affirming Connections are hosting Citywide Pride IN PERSON for the first time since 2019. Join us for interfaith reflections from Affirming faith communities\, music\, special guests\, and more! \nSpecial guests include: Dakshima Dilipani Haputhanthri\, a former lawyer from Sri Lanka\, turned registered social worker and advocate residing in Calgary. And Rev. Dr. Bob Faris\, the newly elected and first openly gay Moderator of the Presbyterian Church of Canada! \nWith 20+ faith communities involved\, this is sure to be a fantastic and meaningful event. \nEveryone is welcome!
URL:https://calgarypride.ca/event/4th-annual-citywide-pride-service/
LOCATION:Scarboro United Church\, 134 Scarboro Avenue SW\, Calgary\, AB\, T3C 2H1\, Canada
ATTACH;FMTTYPE=image/png:https://calgarypride.ca/wp-content/uploads/2022/08/FB-Cover-Citywide-Pride-Save-The-Date-2022-1.png
ORGANIZER;CN="Affirming Connections":MAILTO:pam@affirmingconnections.com
END:VEVENT
BEGIN:VEVENT
DTSTART;TZID=America/Edmonton:20220828T113000
DTEND;TZID=America/Edmonton:20220828T153000
DTSTAMP:20260424T143548
CREATED:20220706T191814Z
LAST-MODIFIED:20220706T191814Z
UID:59244-1661686200-1661700600@calgarypride.ca
SUMMARY:"RAIN OF STARS" A REAL SHOW
DESCRIPTION:Hola mi gente!! 🥰 “RAIN OF STARS” A REAL SHOW\, Directly from Mexico an incredible Impersonators/Drag queen show will arrive to Canada this summer for Calgary Pride Week Celebration\, Spanish and English singers characterization: Lady Gaga\, Karol G\, Monica Naranjo\, Britney Spears\, Cher\, Nicky Minaj\, Jenny Rivera.\nFeaturing: KATHERINE SPEARS\, DENISSE VALENZUELA\, Hosted by PACKO SANZ & MUSIC BY GUEST DJ\nCome and join us for an amazing pride night on Saturday August 27th 7:30 PM-2:00 AM and Sunday Brunch August 28th 12:00PM-3:00 PM\,\nAdvanced Tickets $20-40\nhttps://www.eventbrite.com/…/rain-of-stars-a-real-show…\nReservations: 403-452-8060 Info: WhatsApp 825-994-0907\nVenue: Mikey’s on 12 Ave SW
URL:https://calgarypride.ca/event/rain-of-stars-a-real-show-2/
LOCATION:Mikey’s on 12th\, 918 12 Ave SW\, Calgary\, Alberta\, T2R 0J4\, Canada
CATEGORIES:Drag - Group
ATTACH;FMTTYPE=image/jpeg:https://calgarypride.ca/wp-content/uploads/2022/07/flyer-HIST-WEB-scaled.jpg
ORGANIZER;CN="Packo Sanz":MAILTO:paccko74@hotmail.com
END:VEVENT
BEGIN:VEVENT
DTSTART;TZID=America/Edmonton:20220828T130000
DTEND;TZID=America/Edmonton:20220828T170000
DTSTAMP:20260424T143548
CREATED:20220802T163922Z
LAST-MODIFIED:20220802T163922Z
UID:59331-1661691600-1661706000@calgarypride.ca
SUMMARY:Alberta LGBTQ+ Chamber of Commerce Presents a YYC Pride Flea Market
DESCRIPTION:The Alberta LGBTQ+ Chamber of Commerce is hosting the first ever 🌈Calgary Pride Flea Market🌈 on Sunday\, August 28th starting at 1pm. The purpose of this event is to showcase incredible local businesses\, celebrate pride with music and a scheduled Drag Show performance\, as well as connect the LGBTQ+ business community in Calgary.\nThis event is FREE to attend!\nJoin us at the Flea Market to shop local businesses🛍️\, network with LGBTQ+ business owners and allies🤝\, and enjoy an exciting drag performance 👑\n🏞️The event will be August 28th\, 2021\, from 1:00pm – 5:00pm at the Bridgeland Riverside Community Park (otherwise known as Murdoch Park).
URL:https://calgarypride.ca/event/alberta-lgbtq-chamber-of-commerce-presents-a-yyc-pride-flea-market/
LOCATION:917 Centre Ave NE\, Calgary\, AB T2E 0C6\, Canada\, 917 Centre Ave NE\, Calgary\, Alberta\, T2E 0C6\, Canada
ATTACH;FMTTYPE=image/png:https://calgarypride.ca/wp-content/uploads/2022/07/Calgary-pride-flea-market.png
ORGANIZER;CN="Alberta LGBTQ+ Chamber of Commerce":MAILTO:info@ab-lgbt.com
END:VEVENT
BEGIN:VEVENT
DTSTART;TZID=America/Edmonton:20220828T193000
DTEND;TZID=America/Edmonton:20220828T210000
DTSTAMP:20260424T143548
CREATED:20220816T203219Z
LAST-MODIFIED:20220816T203219Z
UID:59543-1661715000-1661720400@calgarypride.ca
SUMMARY:Ryan & Friends by StoryBook Theatre
DESCRIPTION:Join Ryan Maschke & Friends and get to know some of the vibrant emerging artists he gets the privilege to call his chosen family. Get ready for an exciting night of queer coded content and see something outside of the box in the vocal cabaret. With the help of some Storybook Theatre and BrownCow Collective alumni\, kick your first weekend of PrideYYC with Ryan\, some of Calgary’s hottest emerging queer vocalists and their fierce allies! Thank you to StoryBook Theatre for creating a second home to so many young people and a soft place to land for those returning artists it has fostered through the years.
URL:https://calgarypride.ca/event/ryan-friends-by-storybook-theatre/
LOCATION:Storybook Theatre\, 375 Bermuda Dr NW\, Calgary\, AB\, T3K 2J5\, Canada
CATEGORIES:Community Event,musician,Variety
ATTACH;FMTTYPE=image/jpeg:https://calgarypride.ca/wp-content/uploads/2022/08/inbound7326854995550800828.jpg
ORGANIZER;CN="Storybook Theatre":MAILTO:tickets@storybooktheatre.org
END:VEVENT
BEGIN:VEVENT
DTSTART;TZID=America/Edmonton:20220829T180000
DTEND;TZID=America/Edmonton:20220829T230000
DTSTAMP:20260424T143548
CREATED:20220627T205208Z
LAST-MODIFIED:20220627T205208Z
UID:59027-1661796000-1661814000@calgarypride.ca
SUMMARY:TD Ramsay Patio Pride Party
DESCRIPTION:End of the Rainbow Foundation is hosting a post-vax party in support of\nsponsoring LGBTQ+ Refugees to Canada and Calgary\nat Ol Beautiful Brewing Co.\, on August 29\, 2022 \nAttendees may direct their donations to the Calgary\nRainbow Railroad Station and also to the National\nSOGIESC Refugee Fund\, supporting LGBTQ+ refugees\nin Calgary and now nationwide.
URL:https://calgarypride.ca/event/td-ramsay-patio-pride-party/
LOCATION:Ol’ Beautiful Brewing Co.\, 1103 12 Street Southeast Calgary\,\, Calgary\, Alberta\, AB T2G 3H7\, Canada
CATEGORIES:Community Event
ATTACH;FMTTYPE=image/jpeg:https://calgarypride.ca/wp-content/uploads/2022/06/TD-Pride-Patio.001-1.jpeg
ORGANIZER;CN="End of the Rainbow Foundation":MAILTO:info@endoftherainbow.ca
END:VEVENT
BEGIN:VEVENT
DTSTART;TZID=America/Edmonton:20220829T200000
DTEND;TZID=America/Edmonton:20220829T223000
DTSTAMP:20260424T143548
CREATED:20220815T172720Z
LAST-MODIFIED:20220815T172720Z
UID:59498-1661803200-1661812200@calgarypride.ca
SUMMARY:The Colours of Funny
DESCRIPTION:The Colours of Funny is a comedy night showcasing comedians from the 2SLGBTQ+ community. A diverse lineup of comics with transgender comedian Cindy Rivers hosting\, and queer\, transgender comedian Veronica Gingles from Winnipeg headlining. Cindy has toured North America performing at clubs and festivals\, while Veronica is on her first mini-tour. Veronica produces and hosts a popular bi-monthly show in Winnipeg called Queerly Beloved\, and is planning to do an extensive tour of Canada over the next year. \nThis show is produced by “Comedy Monday Night” at Broken City\, 613 11th Ave SW.\nDoors open at 7\, show at 8. Tickets are $15\, available at the door.
URL:https://calgarypride.ca/event/the-colours-of-funny/
LOCATION:Broken City\, 613 11 Avenue SW\, Calgary\, AB\, T2R 0E1\, Canada
CATEGORIES:comedy
ATTACH;FMTTYPE=image/jpeg:https://calgarypride.ca/wp-content/uploads/2022/08/Colour-of-Funny.jpg
ORGANIZER;CN="Comedy Monday Night":MAILTO:veronicagingles@gmail.com
END:VEVENT
BEGIN:VEVENT
DTSTART;TZID=America/Edmonton:20220830T180000
DTEND;TZID=America/Edmonton:20220830T220000
DTSTAMP:20260424T143548
CREATED:20220816T203338Z
LAST-MODIFIED:20220825T222021Z
UID:59550-1661882400-1661896800@calgarypride.ca
SUMMARY:TD Pride Block Party
DESCRIPTION:TD is thrilled to bring back its FREE\, ALL-AGES TD Pride Block Party on Tuesday\, August 30th. \nThe event will feature food trucks\, a beer garden\, kid activities\, music and live entertainment! \nTogether\, we can work to help remove barriers and promote equality for all.
URL:https://calgarypride.ca/event/td-pride-block-party/
LOCATION:Containr Site in Sunnyside\, 1010 2 ave nw\, Calgary\, AB\, Canada
CATEGORIES:#OurPride,Community Event,DJ,Drag,Food & Drink,Free,Official Events
ATTACH;FMTTYPE=image/jpeg:https://calgarypride.ca/wp-content/uploads/2022/08/IMG_20220825_161704_265.jpg
ORGANIZER;CN="TD Bank":MAILTO:blake.heynen@td.com
END:VEVENT
BEGIN:VEVENT
DTSTART;TZID=America/Edmonton:20220830T200000
DTEND;TZID=America/Edmonton:20220830T220000
DTSTAMP:20260424T143548
CREATED:20220627T205728Z
LAST-MODIFIED:20220627T205728Z
UID:59081-1661889600-1661896800@calgarypride.ca
SUMMARY:Introduction to Asexuality and Aromanticism
DESCRIPTION:Many people have heard about asexuality and aromanticism but the words are so new to the mainstream LGBTQ2IA+ community. What is it? What is it like to be asexual or aromantic? What’s the difference? What are the demi\, grey\, and autochoriso identities? How can I be a better ally and include them in my activism? \nSAAA is hosting an introduction to Asexuality and Aromanticism and is hosting a question amnesty. All questions are welcome so don’t be embarrassed to come with all the queries you can’t ask your friends/kids/students/employees\, etc. \nJoin us through Zoom\, on Tuesday\, August 30th at 8pm! If requested we can send the event link to you through email\, just let us know at abacesandaros@gmail.com. \nThis event is open to everyone!
URL:https://calgarypride.ca/event/introduction-to-asexuality-and-aromanticism/
LOCATION:AB
ATTACH;FMTTYPE=image/jpeg:https://calgarypride.ca/wp-content/uploads/2022/06/Pride-2018_158b_SM.jpg
ORGANIZER;CN="Alberta Asexuals and Aromantics":MAILTO:abacesandaros@gmail.com
END:VEVENT
BEGIN:VEVENT
DTSTART;TZID=America/Edmonton:20220831T180000
DTEND;TZID=America/Edmonton:20220831T193000
DTSTAMP:20260424T143548
CREATED:20220808T165156Z
LAST-MODIFIED:20220808T165156Z
UID:59413-1661968800-1661974200@calgarypride.ca
SUMMARY:Pride Skate at The Olympic Oval
DESCRIPTION:Come Out\, Come Skate\, Wherever you are.  \nThe Olympic Oval at the University of Calgary is hosting its very first PRIDE SKATE on Wednesday\, August 31st\, from 6:00 p.m. – 7:30 p.m. We are excited to be able to offer this skate as part of Calgary’s 2022 PRIDE week. Show your colours and show your pride on the Fastest Ice in the World™. We can’t wait to see you there!!! \nHelmets Rule! Helmets are MANDATORY for all ages during public skating. Skaters who do not have their helmets can rent one from the Olympic Oval Skate Shop for $2.50. Protect your brain\, skate smart!
URL:https://calgarypride.ca/event/pride-skate-at-the-olympic-oval/
LOCATION:Olympic Oval\, 2500 University Dr. NW\, Calgary\, Alberta\, T2N 1N4\, Canada
ATTACH;FMTTYPE=image/jpeg:https://calgarypride.ca/wp-content/uploads/2022/08/1920x1080_PRIDE.jpg
END:VEVENT
BEGIN:VEVENT
DTSTART;TZID=America/Edmonton:20220831T180000
DTEND;TZID=America/Edmonton:20220831T220000
DTSTAMP:20260424T143548
CREATED:20220815T172912Z
LAST-MODIFIED:20220815T172912Z
UID:59492-1661968800-1661983200@calgarypride.ca
SUMMARY:Pride In Business 10 Year Anniversary Rooftop Bash presented by TD
DESCRIPTION:Celebrate 10 years with us! \nKickstart your Calgary Pride Week celebrations with Pride In Business — we’re celebrating our 10th anniversary with a Rooftop Bash! Join us for some mixing\, mingling\, and networking on the beautiful rooftop patio of Calgary Marriott Downtown. \nFEATURING \nA great evening of networking amongst LGBTQ2S+ professionals\, entrepreneurs\, and small business owners \nPerformances by recording artist Amy Hef \nDrag show by Beverly Freebush \nComplimentary drink ticket included with your registration \nHors d’oeuvres \nCash bar \nTICKETS\nLimited capacity – we anticipate the event will sell out. Get tickets early to avoid missing out! \nAdvance: $20
URL:https://calgarypride.ca/event/pride-in-business-10-year-anniversary-rooftop-bash-presented-by-td/
LOCATION:Marriott Calgary Downtown\, 110 9th ave se\, Calgary\, Alberta\, T2G 5A6
ATTACH;FMTTYPE=image/jpeg:https://calgarypride.ca/wp-content/uploads/2022/08/C06EE5C0-AD32-4E17-A6A8-B2921F986BFE-1.jpeg
END:VEVENT
BEGIN:VEVENT
DTSTART;TZID=America/Edmonton:20220831T190000
DTEND;TZID=America/Edmonton:20220831T203000
DTSTAMP:20260424T143548
CREATED:20220811T154145Z
LAST-MODIFIED:20220811T154145Z
UID:59462-1661972400-1661977800@calgarypride.ca
SUMMARY:Author Appearance: Tammy Plunkett\, Beyond Pronouns: The Essential Guide for Parents of Trans Children at Owl's Nest Books and Pages on Kensington
DESCRIPTION:Join us for an author appearance with Tammy Plunkett\, Beyond Pronouns: The Essential Guide for Parents of Trans Children. In her book\, Tammy shares her candid experience learning to navigate her child’s transition and provides clear and practical advice to help parents do the same. She answers many frequently asked questions and offers gentle guidance through the first 100 days and beyond. Structured around key questions parents might have\, she also uniquely addresses the need for parents to be supported so they can best care for their child. Parents are invited to bring their children and join the conversation\, ask questions and share\, in a safe and inclusive environment. \nOwl’s Nest Books — Wednesday\, August 31st\, 7 p.m. to 8:30 p.m.\nPages on Kensington — Thursday\, September 1st\, 1:30 p.m. to 3:00 p.m.
URL:https://calgarypride.ca/event/author-appearance-tammy-plunkett-beyond-pronouns-the-essential-guide-for-parents-of-trans-children-at-owls-nest-books-and-pages-on-kensington/
LOCATION:Owl’s Nest Books\, 815 49 Ave Sw\, Calgary\, Alberta\, T2S 1G8
CATEGORIES:#OurPride,Community Event,Learning Series,Seminar
ATTACH;FMTTYPE=image/jpeg:https://calgarypride.ca/wp-content/uploads/2022/08/20220625_105519-scaled.jpg
ORGANIZER;CN="Principio PR":MAILTO:selly@principiopr.com
END:VEVENT
END:VCALENDAR