BEGIN:VCALENDAR
VERSION:2.0
PRODID:-//Calgary Pride - ECPv6.15.20//NONSGML v1.0//EN
CALSCALE:GREGORIAN
METHOD:PUBLISH
X-ORIGINAL-URL:https://calgarypride.ca
X-WR-CALDESC:Events for Calgary Pride
REFRESH-INTERVAL;VALUE=DURATION:PT1H
X-Robots-Tag:noindex
X-PUBLISHED-TTL:PT1H
BEGIN:VTIMEZONE
TZID:America/Edmonton
BEGIN:DAYLIGHT
TZOFFSETFROM:-0700
TZOFFSETTO:-0600
TZNAME:MDT
DTSTART:20200308T090000
END:DAYLIGHT
BEGIN:STANDARD
TZOFFSETFROM:-0600
TZOFFSETTO:-0700
TZNAME:MST
DTSTART:20201101T080000
END:STANDARD
BEGIN:DAYLIGHT
TZOFFSETFROM:-0700
TZOFFSETTO:-0600
TZNAME:MDT
DTSTART:20210314T090000
END:DAYLIGHT
BEGIN:STANDARD
TZOFFSETFROM:-0600
TZOFFSETTO:-0700
TZNAME:MST
DTSTART:20211107T080000
END:STANDARD
BEGIN:DAYLIGHT
TZOFFSETFROM:-0700
TZOFFSETTO:-0600
TZNAME:MDT
DTSTART:20220313T090000
END:DAYLIGHT
BEGIN:STANDARD
TZOFFSETFROM:-0600
TZOFFSETTO:-0700
TZNAME:MST
DTSTART:20221106T080000
END:STANDARD
BEGIN:DAYLIGHT
TZOFFSETFROM:-0700
TZOFFSETTO:-0600
TZNAME:MDT
DTSTART:20230312T090000
END:DAYLIGHT
BEGIN:STANDARD
TZOFFSETFROM:-0600
TZOFFSETTO:-0700
TZNAME:MST
DTSTART:20231105T080000
END:STANDARD
BEGIN:DAYLIGHT
TZOFFSETFROM:-0700
TZOFFSETTO:-0600
TZNAME:MDT
DTSTART:20240310T090000
END:DAYLIGHT
BEGIN:STANDARD
TZOFFSETFROM:-0600
TZOFFSETTO:-0700
TZNAME:MST
DTSTART:20241103T080000
END:STANDARD
END:VTIMEZONE
BEGIN:VEVENT
DTSTART;TZID=America/Edmonton:20230916T100000
DTEND;TZID=America/Edmonton:20230916T113000
DTSTAMP:20260420T023433
CREATED:20230830T202905Z
LAST-MODIFIED:20230918T181535Z
UID:62163-1694858400-1694863800@calgarypride.ca
SUMMARY:Wordfest presents Bionic Women Online Writing Workshop with Casey Plett
DESCRIPTION:Wordfest presents Bionic Women\nOnline Writing Workshop with Casey Plett\nOpening The Door Versus Keeping It Shut\nA 90-minute online workshop\, led by award-winning author Casey Plett \n“Write with the door closed\, re-write with the door open” is a famous quote from Stephen King’s On Writing who in turn got the lesson from an editor. King said you should begin your story with the intent of it being just for you\, and then open it up for others to criticize. Was he right? When do you open the door? When do you keep it shut? For how long? How do you balance the humility of seeking criticism if it conflicts with what’s exciting you? We will discuss the freedom of privacy and the nourishment of community\, and how these twin phenomena can balance\, oppose\, and synchronize. \nThe 90-minute online workshop\, led by award-winning author Casey Plett\, begins at 10 AM MT on ZOOM and you will be emailed everything you need to access after you sign up.  \nThis rare opportunity to work with Plett is part of Wordfest’s Bionic Women Writers Experience\, which encourages authors who identify anywhere on the gender spectrum to embrace feminist attributes to become better at their craft. \nThanks to the support of the Canada Council for the Arts\, we are able to offer this experience to anyone in any geographic location who would like to participate. Closed-captioning is included and a recording of the session will also be made available to registrants. Please contact boxoffice@wordfest.com if you are experiencing obstacles to participation.  \nAbout Casey Plett \nCasey Plett is the author of A Dream of a Woman\, Little Fish\, and A Safe Girl to Love; the co-editor of Meanwhile\, Elsewhere: Science Fiction and Fantasy From Transgender Writers; and the Publisher at LittlePuss Press. She has written for The New York Times\, The Guardian\, The Globe and Mail\, McSweeney’s Internet Tendency\, the Winnipeg Free Press\, and other publications. A winner of the Amazon First Novel Award\, the Firecracker Award for Fiction\, and two-time winner of the Lambda Literary Award\, her work has also been longlisted for the Scotiabank Giller Prize. Plett is a former bookseller and book publicist and currently teaches creative writing. While she has lived many places throughout the United States and Canada\, she will forever call the prairies home\, specifically Winnipeg and Southern Manitoba\, Treaty 1 Territory and the homeland of the Métis Nation. Find her on Instagram @plettsky.\nAbout A Safe Girl to Love \nA new edition of two-time Lambda Literary Award–winner Casey Plett’s acclaimed debut short story collection. \nBy the author of Little Fish and A Dream of a Woman\, eleven unique short stories feature young trans women stumbling through loss\, sex\, harassment\, and love\, in settings ranging from a rural Mennonite town to a hipster gay bar in Brooklyn. These stories\, shiny with whisky and prairie sunsets\, rattling subways and neglected cats\, show that growing up as a trans girl can be charming\, funny\, frustrating\, or sad\, but never predictable. \nA Safe Girl to Love\, winner of the Lambda Literary Award for transgender fiction\, was first published in 2014. Now back in print after a long absence\, this new edition includes an afterword by the author that reflects on trans writing and representation in our current political climate. \nAbout Wordfest:\nWordfest is an entrepreneurial non-profit founded in 1996\, located in the foothills of the Canadian Rockies in Mohkinstsis\, Calgary\, Alberta\, Treaty 7 territory. Celebrating its 28th year\, Wordfest connects audiences with life-changing experiences and ideas at the Imaginairium Festival each fall\, at in-person events throughout the year\, and virtually via Imagine On Air. The Wordfest Youth program supports teen literacy\, by giving students in Grades 7-12 unique interactive experiences with the world’s leading authors.
URL:https://calgarypride.ca/event/wordfest-presents-bionic-women-online-writing-workshop-with-casey-plett/
LOCATION:Online\, 12 Constance Street\, London\, E16 2DQ
CATEGORIES:Community Event,Story Teller,Workshop
ATTACH;FMTTYPE=image/png:https://calgarypride.ca/wp-content/uploads/2023/08/3_1200x600.png
ORGANIZER;CN="Wordfest":MAILTO:boxoffice@wordfest.com
END:VEVENT
BEGIN:VEVENT
DTSTART;TZID=America/Edmonton:20221005T193000
DTEND;TZID=America/Edmonton:20221005T210000
DTSTAMP:20260420T023433
CREATED:20220915T195855Z
LAST-MODIFIED:20220915T195855Z
UID:59954-1664998200-1665003600@calgarypride.ca
SUMMARY:One Yellow Rabbit presents Diane Flacks in Guilt
DESCRIPTION:A show…errr…party with jokes! \n“Flack’s power of observation and characterization are stunning” – NOW MAGAZINE \nCBC radio host and award-winning actor\, writer and performer Diane Flacks comes to the Big Secret Theatre with an all-new darkly comedic solo performance. \nAn exploration of regret\, disaster\, and accountability from the perspective of a self-sacrificing Jewish mother who initiates a marriage explosion. It begins in a drunken comedic style and proceeds to do a deep dive into the unshakable monster that is Guilt. \nDiane has been hailed for her ability to mix humour and pathos in an intoxicating brew\, and serve it like the spicy mama she is. \nDark\, funny and poignant\, Diane Flacks will captivate audiences in this must-see hit.
URL:https://calgarypride.ca/event/one-yellow-rabbit-presents-diane-flacks-in-guilt/
LOCATION:Arts Commons\, 205 8th Avenue SE\, Calgary\, AB\, T2G 0K9\, Canada
CATEGORIES:comedy,Community Event,Story Teller
ATTACH;FMTTYPE=image/png:https://calgarypride.ca/wp-content/uploads/2022/09/Media-Release-OYR-Guilt-Diane-Flacks-photo-credit-Ian-Lawrence-1.png
END:VEVENT
BEGIN:VEVENT
DTSTART;TZID=America/Edmonton:20221005T193000
DTEND;TZID=America/Edmonton:20221005T210000
DTSTAMP:20260420T023433
CREATED:20220915T195855Z
LAST-MODIFIED:20220915T195855Z
UID:59954-1664998200-1665003600@calgarypride.ca
SUMMARY:One Yellow Rabbit presents Diane Flacks in Guilt
DESCRIPTION:A show…errr…party with jokes! \n“Flack’s power of observation and characterization are stunning” – NOW MAGAZINE \nCBC radio host and award-winning actor\, writer and performer Diane Flacks comes to the Big Secret Theatre with an all-new darkly comedic solo performance. \nAn exploration of regret\, disaster\, and accountability from the perspective of a self-sacrificing Jewish mother who initiates a marriage explosion. It begins in a drunken comedic style and proceeds to do a deep dive into the unshakable monster that is Guilt. \nDiane has been hailed for her ability to mix humour and pathos in an intoxicating brew\, and serve it like the spicy mama she is. \nDark\, funny and poignant\, Diane Flacks will captivate audiences in this must-see hit.
URL:https://calgarypride.ca/event/one-yellow-rabbit-presents-diane-flacks-in-guilt/
LOCATION:Arts Commons\, 205 8th Avenue SE\, Calgary\, AB\, T2G 0K9\, Canada
CATEGORIES:comedy,Community Event,Story Teller
ATTACH;FMTTYPE=image/png:https://calgarypride.ca/wp-content/uploads/2022/09/Media-Release-OYR-Guilt-Diane-Flacks-photo-credit-Ian-Lawrence-1.png
END:VEVENT
BEGIN:VEVENT
DTSTART;TZID=America/Edmonton:20221005T193000
DTEND;TZID=America/Edmonton:20221005T210000
DTSTAMP:20260420T023433
CREATED:20220915T195855Z
LAST-MODIFIED:20220915T195855Z
UID:59954-1664998200-1665003600@calgarypride.ca
SUMMARY:One Yellow Rabbit presents Diane Flacks in Guilt
DESCRIPTION:A show…errr…party with jokes! \n“Flack’s power of observation and characterization are stunning” – NOW MAGAZINE \nCBC radio host and award-winning actor\, writer and performer Diane Flacks comes to the Big Secret Theatre with an all-new darkly comedic solo performance. \nAn exploration of regret\, disaster\, and accountability from the perspective of a self-sacrificing Jewish mother who initiates a marriage explosion. It begins in a drunken comedic style and proceeds to do a deep dive into the unshakable monster that is Guilt. \nDiane has been hailed for her ability to mix humour and pathos in an intoxicating brew\, and serve it like the spicy mama she is. \nDark\, funny and poignant\, Diane Flacks will captivate audiences in this must-see hit.
URL:https://calgarypride.ca/event/one-yellow-rabbit-presents-diane-flacks-in-guilt/
LOCATION:Arts Commons\, 205 8th Avenue SE\, Calgary\, AB\, T2G 0K9\, Canada
CATEGORIES:comedy,Community Event,Story Teller
ATTACH;FMTTYPE=image/png:https://calgarypride.ca/wp-content/uploads/2022/09/Media-Release-OYR-Guilt-Diane-Flacks-photo-credit-Ian-Lawrence-1.png
END:VEVENT
BEGIN:VEVENT
DTSTART;TZID=America/Edmonton:20221005T193000
DTEND;TZID=America/Edmonton:20221005T210000
DTSTAMP:20260420T023433
CREATED:20220915T195855Z
LAST-MODIFIED:20220915T195855Z
UID:59954-1664998200-1665003600@calgarypride.ca
SUMMARY:One Yellow Rabbit presents Diane Flacks in Guilt
DESCRIPTION:A show…errr…party with jokes! \n“Flack’s power of observation and characterization are stunning” – NOW MAGAZINE \nCBC radio host and award-winning actor\, writer and performer Diane Flacks comes to the Big Secret Theatre with an all-new darkly comedic solo performance. \nAn exploration of regret\, disaster\, and accountability from the perspective of a self-sacrificing Jewish mother who initiates a marriage explosion. It begins in a drunken comedic style and proceeds to do a deep dive into the unshakable monster that is Guilt. \nDiane has been hailed for her ability to mix humour and pathos in an intoxicating brew\, and serve it like the spicy mama she is. \nDark\, funny and poignant\, Diane Flacks will captivate audiences in this must-see hit.
URL:https://calgarypride.ca/event/one-yellow-rabbit-presents-diane-flacks-in-guilt/
LOCATION:Arts Commons\, 205 8th Avenue SE\, Calgary\, AB\, T2G 0K9\, Canada
CATEGORIES:comedy,Community Event,Story Teller
ATTACH;FMTTYPE=image/png:https://calgarypride.ca/wp-content/uploads/2022/09/Media-Release-OYR-Guilt-Diane-Flacks-photo-credit-Ian-Lawrence-1.png
END:VEVENT
BEGIN:VEVENT
DTSTART;TZID=America/Edmonton:20220327T150000
DTEND;TZID=America/Edmonton:20220327T170000
DTSTAMP:20260420T023433
CREATED:20220324T213731Z
LAST-MODIFIED:20220324T213731Z
UID:55227-1648393200-1648400400@calgarypride.ca
SUMMARY:The Shoe Project: Standing Strong
DESCRIPTION:The Shoe Project returns to the High Performance Rodeo! \nTen women\, from Afghanistan\, Uzbekistan\, India\, Iran\, Syria\, Mexico\, China\, Nigeria\, and the Philippines will share their stories of immigration and adaptation to Canada – through a pair of shoes. \nThis performance is a culmination of a ten-week workshop cycle where the women were instructed in writing by authors Barb Howard and Kirti Bhadresa\, and voice-coached by Denise Clarke.  \nShoes accompany us on all our journeys. They say who we are\, where we came from and where we are going. Writing and performing their shoe memoirs allows members to be heard in the Canadian mainstream. These powerful stories are bridges carrying us all to a deeper understanding of what it means to be a Canadian. \nThe Shoe Project was created by novelist Katherine Govier and incubated at the Bata Shoe Museum in Toronto. \n“I’m blown away. Those women are amazing\, their stories bold and brave and filled with humour\, love\, and all the travails of making their journeys here. I loved the various shoes\, the boots\, the “slippers”. What an outstanding project!” —Catherine Mitchell\, publisher
URL:https://calgarypride.ca/event/the-shoe-project-standing-strong/
LOCATION:Contemporary Calgary\, 701 11th St SW\, Calgary\, AB\, T2P 2C4\, Canada
CATEGORIES:Festival,Story Teller
ATTACH;FMTTYPE=:
END:VEVENT
BEGIN:VEVENT
DTSTART;VALUE=DATE:20220118
DTEND;VALUE=DATE:20220208
DTSTAMP:20260420T023433
CREATED:20211214T161954Z
LAST-MODIFIED:20211214T161954Z
UID:55000-1642478400-1644206399@calgarypride.ca
SUMMARY:High Performance Rodeo
DESCRIPTION:From January 18 – February 6\, 2022\, One Yellow Rabbit’s 36th annual High Performance Rodeo\, Calgary’s International Festival of the Arts\, will make its triumphant return to stages to shake up Calgary’s audiences for three wild weeks. \nFor the first time in two years\, audiences will be back together\, live and in-person\, to experience bold\, cutting-edge\, funny\, frank\, and full-of-heart work that could only happen at the Rodeo. Featuring master artists\, emerging voices\, drag queens\, foley artists\, legendary dancers\, and girl scouts; this HPRodeo will welcome artists from across the country\, bringing some old friends and many new discoveries to Calgary.  \nHPRodeo 2022 features 75+ artists in 20 productions presented in 10 venues across Calgary’s downtown\, including a revival of a legendary play by the One Yellow Rabbit Ensemble\, 8 visiting productions\, comedy\, drama\, drag\, virtual reality\, and more. \nThe High Performance Rodeo is the largest festival of its kind in Western Canada and a partner of Chinook Blast. Audiences can check out individual shows or experience multiple shows with festival passes. How will you HPRodeo? \nFor ticketing and show information\, visit www.hprodeo.ca.
URL:https://calgarypride.ca/event/high-performance-rodeo/
LOCATION:Arts Commons\, 205 8th Avenue SE\, Calgary\, AB\, T2G 0K9\, Canada
CATEGORIES:comedy,Dance,Drag,Festival,Story Teller
ATTACH;FMTTYPE=:
END:VEVENT
BEGIN:VEVENT
DTSTART;TZID=America/Edmonton:20210904T110000
DTEND;TZID=America/Edmonton:20210904T123000
DTSTAMP:20260420T023433
CREATED:20210813T232124Z
LAST-MODIFIED:20210813T232124Z
UID:53998-1630753200-1630758600@calgarypride.ca
SUMMARY:9th Annual Pride Brunch in Support of Camp fYrefly
DESCRIPTION:Join us for everyone’s favourite Pride brunch tradition on September 4 – from home OR in person! \nAfter careful consideration\, we are delighted to bring Calgarians a hybrid event this year! We understand there is an array of comfort among our community and we will carefully monitor the COVID situation and make any necessary changes for the safety of all guests. \nChoose your Pride Brunch package and support Camp fYrefly with whatever option you choose: \nOnline Brunch (Zoom):  Enjoy a delicious local brunch and experience heartwarming camp stories and moving performances in the comfort of your own home. Gather a small group of friends or family and create your own Pride party! Pick up a delicious local brunch from Winebar or Yellow Door Bistro and bring it home\, then log in to Zoom and watch the program. \nIn-Person VIP (Hotel Arts): Miss seeing people? Us too! That’s why we’re selling a limited number of VIP tickets to attend brunch in person at Hotel Arts. Dine on a plated brunch meal and visit with friends and acquaintances while enjoying youth performances\, heartwarming camp stories and more. \nOnline Only: Can’t pick up brunch that morning? Don’t live in Calgary? You can still join us! Choose the online-only ticket option – we’d love to see you there. \nExtras: \nOf course\, it wouldn’t be Pride Brunch without champagne! Thanks to Pacific Wine and Spirits\, you can order a bottle of Taittinger Champagne and proceeds will go to Camp fYrefly. Champagne is available for brunch pick-up or pre-ordered for your in-person table! \nEvery party needs decorations\, and Pride Boxes are back! Show your support for Pride by decking out your home. Add on a Pride Box to your ticket order to receive an exclusive box of Pride goodies – the proceeds go to the Centre’s 2S/LGBTQ+ programs! \nWhen: Saturday\, September 4\, 2021 – 11:00 am-12:30 pm \nWhere: Hotel Arts OR the comfort of your own home! \nWhat: Choose your favourite brunch option\, add on some champagne and a Pride Box\, and support Camp fYrefly and 2S/LGBTQ+ youth! \nTickets: https://www.generoussolutions.com/e/9th-annual-pride-brunch-640 
URL:https://calgarypride.ca/event/9th-annual-pride-brunch-in-support-of-camp-fyrefly/
LOCATION:Hotel Arts\, 119 - 12 Avenue SW\, Calgary\, AB\, T2R 0G8\, Canada
CATEGORIES:Community Event,Food & Drink,Miscellaneous,musician,Story Teller,Variety,Virtual
ATTACH;FMTTYPE=:
ORGANIZER;CN="Centre for Sexuality":MAILTO:info@centreforsexuality.ca
END:VEVENT
END:VCALENDAR