BEGIN:VCALENDAR
VERSION:2.0
PRODID:-//Calgary Pride - ECPv6.15.20//NONSGML v1.0//EN
CALSCALE:GREGORIAN
METHOD:PUBLISH
X-WR-CALNAME:Calgary Pride
X-ORIGINAL-URL:https://calgarypride.ca
X-WR-CALDESC:Events for Calgary Pride
REFRESH-INTERVAL;VALUE=DURATION:PT1H
X-Robots-Tag:noindex
X-PUBLISHED-TTL:PT1H
BEGIN:VTIMEZONE
TZID:America/Edmonton
BEGIN:DAYLIGHT
TZOFFSETFROM:-0700
TZOFFSETTO:-0600
TZNAME:MDT
DTSTART:20210314T090000
END:DAYLIGHT
BEGIN:STANDARD
TZOFFSETFROM:-0600
TZOFFSETTO:-0700
TZNAME:MST
DTSTART:20211107T080000
END:STANDARD
BEGIN:DAYLIGHT
TZOFFSETFROM:-0700
TZOFFSETTO:-0600
TZNAME:MDT
DTSTART:20220313T090000
END:DAYLIGHT
BEGIN:STANDARD
TZOFFSETFROM:-0600
TZOFFSETTO:-0700
TZNAME:MST
DTSTART:20221106T080000
END:STANDARD
BEGIN:DAYLIGHT
TZOFFSETFROM:-0700
TZOFFSETTO:-0600
TZNAME:MDT
DTSTART:20230312T090000
END:DAYLIGHT
BEGIN:STANDARD
TZOFFSETFROM:-0600
TZOFFSETTO:-0700
TZNAME:MST
DTSTART:20231105T080000
END:STANDARD
END:VTIMEZONE
BEGIN:VEVENT
DTSTART;TZID=America/Edmonton:20221019T180000
DTEND;TZID=America/Edmonton:20221019T213000
DTSTAMP:20260422T091040
CREATED:20221018T164638Z
LAST-MODIFIED:20221018T164638Z
UID:60106-1666202400-1666215000@calgarypride.ca
SUMMARY:Pride In Business LGBTQ2S+ Networking presented by TD
DESCRIPTION:Join Pride In Business along with fellow LGBTQ2S+ professionals & allies for an evening of networking at the Fairmont Palliser. \nPRESENTED BY TD CANADA\n PROUDLY PART OF CALGARY CHAMBER SMALL BUSINESS WEEK \nFEATURING\n* A great evening of networking amongst LGBTQ2S+ professionals\, entrepreneurs\, and small business owners\n* Complimentary drink ticket included with your advance registration\n* Hors d’oeuvres\, compliments of Fairmont Palliser\n* Cash bar \nTICKETS\nEvent tickets purchased in advance include 1 drink ticket. \nLimited capacity – we anticipate the event will sell out. Get tickets early to avoid missing out!\n* EARLY BIRD: $10 (first 50 registrants only)\n* Advance: $15\n* Door: $20 (availability not guaranteed\, register in advance to guarantee your spot\, drink ticket not included) + taxes & fees
URL:https://calgarypride.ca/event/pride-in-business-lgbtq2s-networking-presented-by-td/
LOCATION:Fairmont Palliser\, Calgary\, 133 9 Avenue Southwest\, Calgary\, AB\, T2P 2M3\, Canada
CATEGORIES:Community Event,Seminar
ATTACH;FMTTYPE=image/jpeg:https://calgarypride.ca/wp-content/uploads/2022/10/PIB-SmallBusinessWeek-graphics-EB.jpg
END:VEVENT
END:VCALENDAR