BEGIN:VCALENDAR
VERSION:2.0
PRODID:-//Calgary Pride - ECPv6.15.20//NONSGML v1.0//EN
CALSCALE:GREGORIAN
METHOD:PUBLISH
X-WR-CALNAME:Calgary Pride
X-ORIGINAL-URL:https://calgarypride.ca
X-WR-CALDESC:Events for Calgary Pride
REFRESH-INTERVAL;VALUE=DURATION:PT1H
X-Robots-Tag:noindex
X-PUBLISHED-TTL:PT1H
BEGIN:VTIMEZONE
TZID:America/Edmonton
BEGIN:DAYLIGHT
TZOFFSETFROM:-0700
TZOFFSETTO:-0600
TZNAME:MDT
DTSTART:20230312T090000
END:DAYLIGHT
BEGIN:STANDARD
TZOFFSETFROM:-0600
TZOFFSETTO:-0700
TZNAME:MST
DTSTART:20231105T080000
END:STANDARD
BEGIN:DAYLIGHT
TZOFFSETFROM:-0700
TZOFFSETTO:-0600
TZNAME:MDT
DTSTART:20240310T090000
END:DAYLIGHT
BEGIN:STANDARD
TZOFFSETFROM:-0600
TZOFFSETTO:-0700
TZNAME:MST
DTSTART:20241103T080000
END:STANDARD
BEGIN:DAYLIGHT
TZOFFSETFROM:-0700
TZOFFSETTO:-0600
TZNAME:MDT
DTSTART:20250309T090000
END:DAYLIGHT
BEGIN:STANDARD
TZOFFSETFROM:-0600
TZOFFSETTO:-0700
TZNAME:MST
DTSTART:20251102T080000
END:STANDARD
END:VTIMEZONE
BEGIN:VEVENT
DTSTART;TZID=America/Edmonton:20240629T180000
DTEND;TZID=America/Edmonton:20240629T200000
DTSTAMP:20260419T215746
CREATED:20240613T162244Z
LAST-MODIFIED:20240613T164440Z
UID:63275-1719684000-1719691200@calgarypride.ca
SUMMARY:Afro Queer Pride Yoga
DESCRIPTION:The first in a Summer Series – Pride Month special: Afro Queer Yoga. Immerse yourself in the irresistible allure of a stylized playlist as the rhythm guides you through a journey of self-love and empowerment. \nMove with the beat in a space where every pose celebrates the beauty of African heritage and the spirit of Pride. Let the seductive melodies awaken your senses\, transforming each stretch into a powerful expression of your true self. Afro Queer Yoga is more than a class; it’s a celebration of identity\, unity\, and sensuality. There will be a 50 minute asana practice followed by a 30 minute conversation co-facilitated by Black Pride YYC. Afro Queer Yoga – because embracing who you are never felt so exhilarating. \nCelebrate Pride with us at @communitywiseyyc. \nSponsored by Recovery Path Society in collaboration with @blackprideyyc 💋🧘🏾‍♂️🎶🏳️‍🌈
URL:https://calgarypride.ca/event/afro-queer-pride-yoga/
LOCATION:Community Wise Resource Centre\, 223 12 Avenue Southwest\, Calgary\, AB\, T2R\, Canada
CATEGORIES:Free,Queer Health
ATTACH;FMTTYPE=image/png:https://calgarypride.ca/wp-content/uploads/2024/06/Yoga-Posters_20240522_100651_0000.png
END:VEVENT
END:VCALENDAR