BEGIN:VCALENDAR
VERSION:2.0
PRODID:-//Calgary Pride - ECPv6.15.20//NONSGML v1.0//EN
CALSCALE:GREGORIAN
METHOD:PUBLISH
X-ORIGINAL-URL:https://calgarypride.ca
X-WR-CALDESC:Events for Calgary Pride
REFRESH-INTERVAL;VALUE=DURATION:PT1H
X-Robots-Tag:noindex
X-PUBLISHED-TTL:PT1H
BEGIN:VTIMEZONE
TZID:America/Edmonton
BEGIN:DAYLIGHT
TZOFFSETFROM:-0700
TZOFFSETTO:-0600
TZNAME:MDT
DTSTART:20240310T090000
END:DAYLIGHT
BEGIN:STANDARD
TZOFFSETFROM:-0600
TZOFFSETTO:-0700
TZNAME:MST
DTSTART:20241103T080000
END:STANDARD
BEGIN:DAYLIGHT
TZOFFSETFROM:-0700
TZOFFSETTO:-0600
TZNAME:MDT
DTSTART:20250309T090000
END:DAYLIGHT
BEGIN:STANDARD
TZOFFSETFROM:-0600
TZOFFSETTO:-0700
TZNAME:MST
DTSTART:20251102T080000
END:STANDARD
BEGIN:DAYLIGHT
TZOFFSETFROM:-0700
TZOFFSETTO:-0600
TZNAME:MDT
DTSTART:20260308T090000
END:DAYLIGHT
BEGIN:STANDARD
TZOFFSETFROM:-0600
TZOFFSETTO:-0700
TZNAME:MST
DTSTART:20261101T080000
END:STANDARD
END:VTIMEZONE
BEGIN:VEVENT
DTSTART;TZID=America/Edmonton:20250131T193000
DTEND;TZID=America/Edmonton:20250131T213000
DTSTAMP:20260419T182716
CREATED:20250106T183751Z
LAST-MODIFIED:20250106T183751Z
UID:64260-1738351800-1738359000@calgarypride.ca
SUMMARY:Chinook Poetry Reading
DESCRIPTION:Celebrate local literature and wintertime in southern Alberta at this special poetry reading featuring the winners of The Confluence’s second annual Chinook Poetry Competition.  \nUp to eight poets will read their winning submissions about winter and the land\, then mix and mingle at a community reception in The Confluence Room\, where printed versions of the successful poems will be displayed throughout the winter.
URL:https://calgarypride.ca/event/chinook-poetry-reading/
LOCATION:The Confluence Historic Site & Parkland\, 750 9 Ave SE\, Calgary\, AB\, T2G 5E1\, Canada
CATEGORIES:Community Event,Free,Speech
ATTACH;FMTTYPE=image/jpeg:https://calgarypride.ca/wp-content/uploads/2024/12/IMG_0177.jpeg
ORGANIZER;CN="The Confluence Historic Site &amp%3B Parkland Society":MAILTO:info@theconfluence.ca
END:VEVENT
BEGIN:VEVENT
DTSTART;TZID=America/Edmonton:20250411T173000
DTEND;TZID=America/Edmonton:20250411T200000
DTSTAMP:20260419T182716
CREATED:20250328T214609Z
LAST-MODIFIED:20250328T214609Z
UID:64439-1744392600-1744401600@calgarypride.ca
SUMMARY:What Now? Dinner & Panel Discussion
DESCRIPTION:This gathering is an all ages open invitation to 2SLGBTQIA+ individuals\, their families\, friends\, and support networks to share a meal\, connect\, and reflect on the joys and challenges of allyship. Our panel will explore the importance of ongoing support and the impact of having strong allies in the next steps to fostering inclusive communities. Come celebrate what we’ve built together and be inspired to continue the journey!\nThis is a safe space\, come as you are\, all are welcome.\nGuests include:\nMiranda Martini she/her- Affirming Connections\nStar Oldring they/them- Alberta GSA Network\nTina Que she/her- Rainbow Elders\nSydney Fleury they/them- Skipping Stone
URL:https://calgarypride.ca/event/what-now-dinner-panel-discussion/
LOCATION:8516 athabasca st. se\, 8516 ATHABASCA ST SE\, CALGARY\, Alberta\, T2H1S1\, Canada
CATEGORIES:Community Event,Food & Drink,Free,Speech
ATTACH;FMTTYPE=image/png:https://calgarypride.ca/wp-content/uploads/2025/03/April-11-Poster.png
END:VEVENT
BEGIN:VEVENT
DTSTART;TZID=America/Edmonton:20250504T100000
DTEND;TZID=America/Edmonton:20250504T160000
DTSTAMP:20260419T182716
CREATED:20250521T160836Z
LAST-MODIFIED:20250521T160836Z
UID:64457-1746352800-1746374400@calgarypride.ca
SUMMARY:Mount Pleasant Potters' Guild Annual Spring Pottery Market
DESCRIPTION:Mount Pleasant Potters’ Guild presents our Annual Spring Pottery Market\, Sunday\, May 4. Join us for Calgary’s largest spring pottery market\, featuring a talented lineup of local artists! Every piece is 100% Canadian-made\, crafted with care\, and totally one of a kind—from beautiful mugs and bowls to stunning and decorative art\, there’s something for everyone. Don’t miss your chance to find the perfect handmade treasure at this massive showcase of ceramic creativity!
URL:https://calgarypride.ca/event/mount-pleasant-potters-guild-annual-spring-pottery-market/
LOCATION:Triwood Community Hall\, 2244 Chicoutimi Drive\, Calgary\, Alberta\, T2L0W1\, Canada
CATEGORIES:Community Event,Free
ATTACH;FMTTYPE=image/jpeg:https://calgarypride.ca/wp-content/uploads/2025/03/MPPGSprng2025Pottery-market.jpeg
ORGANIZER;CN="Mount Pleasant Potters' Guild":MAILTO:Mountpleasantpottersguild05@gmail.com
END:VEVENT
BEGIN:VEVENT
DTSTART;TZID=America/Edmonton:20250516T170000
DTEND;TZID=America/Edmonton:20250516T220000
DTSTAMP:20260419T182716
CREATED:20250509T155630Z
LAST-MODIFIED:20250509T155630Z
UID:64381-1747414800-1747432800@calgarypride.ca
SUMMARY:The Highfield Food & Beverage Market Fest
DESCRIPTION:Discover the Brewery belt of Calgary\, Alberta (Manchester/Highfield SE Calgary) with over 30 vendors\, live entertainment and surprises!\nFriday – May 16th 5-10pm\n&\nSaturday – May 17th 10-4pm\nFor more information please email: events@dmeinc.ca or info@dmeinc.ca
URL:https://calgarypride.ca/event/the-highfield-food-beverage-market-fest/
LOCATION:544 38A Ave SE\, 544 38A Ave SE\, Calgary\, Alberta\, T2G 1X4\, Canada
CATEGORIES:Community Event,Festival,Food & Drink,Free
ORGANIZER;CN="Delisle Marketing &amp%3B Events":MAILTO:info@dmeinc.ca
END:VEVENT
BEGIN:VEVENT
DTSTART;TZID=America/Edmonton:20250516T170000
DTEND;TZID=America/Edmonton:20250516T220000
DTSTAMP:20260419T182716
CREATED:20250509T155630Z
LAST-MODIFIED:20250509T155630Z
UID:64381-1747414800-1747432800@calgarypride.ca
SUMMARY:The Highfield Food & Beverage Market Fest
DESCRIPTION:Discover the Brewery belt of Calgary\, Alberta (Manchester/Highfield SE Calgary) with over 30 vendors\, live entertainment and surprises!\nFriday – May 16th 5-10pm\n&\nSaturday – May 17th 10-4pm\nFor more information please email: events@dmeinc.ca or info@dmeinc.ca
URL:https://calgarypride.ca/event/the-highfield-food-beverage-market-fest/
LOCATION:544 38A Ave SE\, 544 38A Ave SE\, Calgary\, Alberta\, T2G 1X4\, Canada
CATEGORIES:Community Event,Festival,Food & Drink,Free
ORGANIZER;CN="Delisle Marketing &amp%3B Events":MAILTO:info@dmeinc.ca
END:VEVENT
BEGIN:VEVENT
DTSTART;TZID=America/Edmonton:20250522T190000
DTEND;TZID=America/Edmonton:20250522T210000
DTSTAMP:20260419T182716
CREATED:20250509T155005Z
LAST-MODIFIED:20250509T155005Z
UID:64544-1747940400-1747947600@calgarypride.ca
SUMMARY:We Were Taken - Documentary Screening in Calgary
DESCRIPTION:Presented by the John Humphrey Centre for Peace and Human Rights and the Sixties Scoop Indigenous Society of Alberta (SSISA) in collaboration with Damian Abrahams\, Indigital Media of Edmonton. \nJoin us for a special screening of the Director’s Cut of We Were Taken\, a powerful documentary filmed in May 2023 during a healing gathering of Sixties Scoop survivors in Kananaskis\, Alberta. \nWe Were Taken intimately explores the lived experiences of Indigenous individuals who were removed from their families during the Sixties Scoop and placed in adoptive homes. With compassion and care\, the film sheds light on their journeys of grief\, understanding\, and healing—amplifying voices that reclaim identity and culture across generations. \nThis event offers an opportunity to witness stories of resilience and reconnection and to reflect on the ongoing impacts of colonial systems in Canada.
URL:https://calgarypride.ca/event/we-were-taken-documentary-screening-in-calgary/
LOCATION:The Confluence Historic Site & Parkland\, 750 9 Ave SE\, Calgary\, AB\, T2G 5E1\, Canada
CATEGORIES:Community Event,Free,Indigenous Events
ATTACH;FMTTYPE=image/png:https://calgarypride.ca/wp-content/uploads/2025/05/SSISA-screening.png
ORGANIZER;CN="John Humphrey Centre for Peace and Human Rights":MAILTO:edward@jhcentre.org
END:VEVENT
BEGIN:VEVENT
DTSTART;TZID=America/Edmonton:20250823T170000
DTEND;TZID=America/Edmonton:20250823T200000
DTSTAMP:20260419T182716
CREATED:20250807T164752Z
LAST-MODIFIED:20250807T182538Z
UID:65324-1755968400-1755979200@calgarypride.ca
SUMMARY:Boots & Pride: A Line Dance Celebration
DESCRIPTION:Join us as Calgary’s Pride Week kicks off on Saturday August 23 for a fun night of dancing and colorful vibes\, as we celebrate with a free easy beginner line dance lesson and a jam-packed playlist of popular favs to keep you moving all night long!
URL:https://calgarypride.ca/event/boots-pride-a-line-dance-celebration/
LOCATION:Ranchmans Cookhouse & Dancehall\, 9615 Macleod Trail S\, Calgary\, Alberta\, T2J 0P6\, Canada
CATEGORIES:Dance,Free,Over 18
ATTACH;FMTTYPE=image/png:https://calgarypride.ca/wp-content/uploads/2025/08/Boots-and-Pride-2025.png
END:VEVENT
BEGIN:VEVENT
DTSTART;TZID=America/Edmonton:20250903T123000
DTEND;TZID=America/Edmonton:20250903T133000
DTSTAMP:20260419T182716
CREATED:20250828T160553Z
LAST-MODIFIED:20250828T160553Z
UID:65502-1756902600-1756906200@calgarypride.ca
SUMMARY:🌈🍕🥳 Pride Pizza Party
DESCRIPTION:Join us for a slice* where every topping is welcome and every heart is celebrated! \nCome solo or bring a friend – everyone’s welcome at this event. \n*Pizza available while supplies last.
URL:https://calgarypride.ca/event/%f0%9f%8c%88%f0%9f%8d%95%f0%9f%a5%b3-pride-pizza-party/
LOCATION:223 12 Ave SW\, 223 12 Avenue Southwest\, Calgary\, AB\, T2R\, Canada
CATEGORIES:Community Event,Food & Drink,Free
END:VEVENT
END:VCALENDAR