BEGIN:VCALENDAR
VERSION:2.0
PRODID:-//Calgary Pride - ECPv6.15.20//NONSGML v1.0//EN
CALSCALE:GREGORIAN
METHOD:PUBLISH
X-WR-CALNAME:Calgary Pride
X-ORIGINAL-URL:https://calgarypride.ca
X-WR-CALDESC:Events for Calgary Pride
REFRESH-INTERVAL;VALUE=DURATION:PT1H
X-Robots-Tag:noindex
X-PUBLISHED-TTL:PT1H
BEGIN:VTIMEZONE
TZID:America/Edmonton
BEGIN:DAYLIGHT
TZOFFSETFROM:-0700
TZOFFSETTO:-0600
TZNAME:MDT
DTSTART:20230312T090000
END:DAYLIGHT
BEGIN:STANDARD
TZOFFSETFROM:-0600
TZOFFSETTO:-0700
TZNAME:MST
DTSTART:20231105T080000
END:STANDARD
BEGIN:DAYLIGHT
TZOFFSETFROM:-0700
TZOFFSETTO:-0600
TZNAME:MDT
DTSTART:20240310T090000
END:DAYLIGHT
BEGIN:STANDARD
TZOFFSETFROM:-0600
TZOFFSETTO:-0700
TZNAME:MST
DTSTART:20241103T080000
END:STANDARD
BEGIN:DAYLIGHT
TZOFFSETFROM:-0700
TZOFFSETTO:-0600
TZNAME:MDT
DTSTART:20250309T090000
END:DAYLIGHT
BEGIN:STANDARD
TZOFFSETFROM:-0600
TZOFFSETTO:-0700
TZNAME:MST
DTSTART:20251102T080000
END:STANDARD
BEGIN:DAYLIGHT
TZOFFSETFROM:-0700
TZOFFSETTO:-0600
TZNAME:MDT
DTSTART:20260308T090000
END:DAYLIGHT
BEGIN:STANDARD
TZOFFSETFROM:-0600
TZOFFSETTO:-0700
TZNAME:MST
DTSTART:20261101T080000
END:STANDARD
END:VTIMEZONE
BEGIN:VEVENT
DTSTART;TZID=America/Edmonton:20241011T190000
DTEND;TZID=America/Edmonton:20241018T210000
DTSTAMP:20260420T162510
CREATED:20240930T173600Z
LAST-MODIFIED:20240930T173600Z
UID:63928-1728673200-1729285200@calgarypride.ca
SUMMARY:Creepy Tales & Cocktails
DESCRIPTION:Have you heard about the murders in Inglewood? How about the spirits said to haunt the lands at the confluence of the Bow and Elbow rivers? This October\, join us at for an evening of creepy crimes\, scary stories and signature cocktails at The Confluence! \nThis 18+ event will begin in the replica 1888 Fort Calgary Barracks\, where guests will enjoy a cocktail to steel their nerves before embarking on an eerie evening walking tour of The Confluence parkland and into Calgary’s oldest neighbourhood of Inglewood. This hour and a half walk will be packed with terrifying tales of executions\, ghosts and murders sure to make even the most seasoned true crime lover tremble in fear. \nTickets include the tour\, hors-d’œuvres\, and one drink ticket (alcoholic and non-alcoholic options available). Additional drink tickets will be available for purchase. Doors open at 6:30 pm.
URL:https://calgarypride.ca/event/creepy-tales-cocktails/
LOCATION:The Confluence Historic Site & Parkland\, 750 9 Ave SE\, Calgary\, AB\, T2G 5E1\, Canada
CATEGORIES:Food & Drink,Over 18,Signature Events
ATTACH;FMTTYPE=image/jpeg:https://calgarypride.ca/wp-content/uploads/2024/09/VISIT-CreepyCocktails-2024.jpg
ORGANIZER;CN="The Confluence Historic Site &amp%3B Parkland":MAILTO:programs@theconfluence.ca
END:VEVENT
BEGIN:VEVENT
DTSTART;TZID=America/Edmonton:20241011T190000
DTEND;TZID=America/Edmonton:20241018T210000
DTSTAMP:20260420T162510
CREATED:20240930T173600Z
LAST-MODIFIED:20240930T173600Z
UID:63928-1728673200-1729285200@calgarypride.ca
SUMMARY:Creepy Tales & Cocktails
DESCRIPTION:Have you heard about the murders in Inglewood? How about the spirits said to haunt the lands at the confluence of the Bow and Elbow rivers? This October\, join us at for an evening of creepy crimes\, scary stories and signature cocktails at The Confluence! \nThis 18+ event will begin in the replica 1888 Fort Calgary Barracks\, where guests will enjoy a cocktail to steel their nerves before embarking on an eerie evening walking tour of The Confluence parkland and into Calgary’s oldest neighbourhood of Inglewood. This hour and a half walk will be packed with terrifying tales of executions\, ghosts and murders sure to make even the most seasoned true crime lover tremble in fear. \nTickets include the tour\, hors-d’œuvres\, and one drink ticket (alcoholic and non-alcoholic options available). Additional drink tickets will be available for purchase. Doors open at 6:30 pm.
URL:https://calgarypride.ca/event/creepy-tales-cocktails/
LOCATION:The Confluence Historic Site & Parkland\, 750 9 Ave SE\, Calgary\, AB\, T2G 5E1\, Canada
CATEGORIES:Food & Drink,Over 18,Signature Events
ATTACH;FMTTYPE=image/jpeg:https://calgarypride.ca/wp-content/uploads/2024/09/VISIT-CreepyCocktails-2024.jpg
ORGANIZER;CN="The Confluence Historic Site &amp%3B Parkland":MAILTO:programs@theconfluence.ca
END:VEVENT
BEGIN:VEVENT
DTSTART;TZID=America/Edmonton:20241109T203000
DTEND;TZID=America/Edmonton:20241109T230000
DTSTAMP:20260420T162510
CREATED:20241104T172910Z
LAST-MODIFIED:20241104T172910Z
UID:64001-1731184200-1731193200@calgarypride.ca
SUMMARY:Holi-GAY Weekends Compulsory November's Holiday
DESCRIPTION:Calgary’s hottest drag show is Holi-GAY Weekends!\nEvery long weekend\, drag kings Noble Oney and Osmo Cis are back with an all-new\, all-queer show that answers the question\, “WHAT?!”  \nDon’t be thrown off when you’re greeted at the door by a drag king that looks like Hulk Hogan. You’re in the right place. And anyone can get in – there’s no password. All we ask is that you leave your heteronormativity at the door – this one’s for the girls\, the goths\, and the gays. \nThis Show Has Everything \nDrag kings\nBurlesque\nHand-pulled vegan pasta\nFlutists\nCops on roller blades\nAnti-capitalist sentiment\nGender neutral bathrooms\nBuff Easter bunny\nCowboy Santa\nRoulette duets\n… and other gay stuff you’ll find yourself obsessively thinking about weeks later. \nAnd you’ll have your very own When Harry Met Sally moment with our IRL Tinder profiles speed dating game. \nA Note on Pricing\nTickets are $15 in advance\, or $20 at the door. However\, this is merely a suggestion! Because the kingdom of capitalism is alive and well and crushing\, we always offer a Community Pay What You Can (PWYC) option. \nTo do that\, just reserve your spot for free under PWYC and put whatever amount feels fair and do-able for you in the bucket at the door.  \nAbout the Venue\nLocated at The Attic Bar and Stage on the second floor above Vegan Street\, in the heart of historic Inglewood (formerly Lolita’s Lounge – home to Carly’s Angels\, Calgary’s longest-running drag show). \nPlant-based comfort food downstairs\, stone-fired pizza and hand-pulled pasta upstairs – plus curated cocktails and local beer. The Attic is the only fully plant-based pizza bar in town that will genuinely fool any carnivore – and don’t forget their MANY non-alcoholic and gluten-free options.  \nUnfortunately\, The Attic is accessible only by stairs. Free street parking is available after 6pm. \nGender neutral bathrooms available on both floors. \nLand Acknowledgement\nIn the spirit of our commitment to reconciliation\, it’s critical that we start by echoing the names of the nations whose homes we inhabit. We reside on the home of the unceded territories of the Blackfoot Confederacy\, which is comprised of the the Piikani\, the Siksika\, and the Kainai\, as well as the Îyâxe Nakoda\, Tsuut’ina nations\, and the Otipemisiwak Métis government. We honour Mohkínstsis and all nations who are the first caretakers of this revered land.  \nWe have an obligation to continuously reflect on and take action to repair the damage and harm enacted upon Indigenous communities. Our cast will address and take action on at least one item from (and amplify the work being done on) the 94 the calls to action each time we host an event. It is our hope to bring awareness to our audience and inspire you to take action as well.
URL:https://calgarypride.ca/event/holi-gay-weekends-compulsory-novembers-holiday/
LOCATION:The Attic Bar & Stage\, 1413 9 Avenue Southeast\, Calgary\, Alberta\, T2G 0T4
CATEGORIES:Burlesque,Drag,Food & Drink
ATTACH;FMTTYPE=image/png:https://calgarypride.ca/wp-content/uploads/2024/11/2024-Holi-GAY-Showpass-prairi.png
END:VEVENT
BEGIN:VEVENT
DTSTART;TZID=America/Edmonton:20241130T180000
DTEND;TZID=America/Edmonton:20241130T220000
DTSTAMP:20260420T162510
CREATED:20241112T220413Z
LAST-MODIFIED:20241112T220413Z
UID:64066-1732989600-1733004000@calgarypride.ca
SUMMARY:Taylor’s Version at The Confluence
DESCRIPTION:Perfectly timed between the Toronto and Vancouver shows\, this is the ultimate event for Calgary Swifties wanting to meet fellow fans and celebrate The Eras Tour finally making it to Canada. Make and trade friendship bracelets\, compete in Taylor Swift trivia\, and conclude the evening with a dance party!  \nTickets will include admission to the cultural centre\, a selection of handmade Taylor Swift-inspired merch will also be for sale via our event sponsor Pawsitive Vibes Custom Crafts\, and a entire night of Taylor Swift fun!
URL:https://calgarypride.ca/event/taylors-version-at-the-confluence/
LOCATION:The Confluence Historic Site & Parkland\, 750 9 Ave SE\, Calgary\, AB\, T2G 5E1\, Canada
CATEGORIES:Dance,Food & Drink,Over 18
ATTACH;FMTTYPE=image/jpeg:https://calgarypride.ca/wp-content/uploads/2024/11/Visit-TSwift-2024.jpg
ORGANIZER;CN="The Confluence Historic Site &amp%3B Parkland Society":MAILTO:info@theconfluence.ca
END:VEVENT
BEGIN:VEVENT
DTSTART;TZID=America/Edmonton:20250411T173000
DTEND;TZID=America/Edmonton:20250411T200000
DTSTAMP:20260420T162510
CREATED:20250328T214609Z
LAST-MODIFIED:20250328T214609Z
UID:64439-1744392600-1744401600@calgarypride.ca
SUMMARY:What Now? Dinner & Panel Discussion
DESCRIPTION:This gathering is an all ages open invitation to 2SLGBTQIA+ individuals\, their families\, friends\, and support networks to share a meal\, connect\, and reflect on the joys and challenges of allyship. Our panel will explore the importance of ongoing support and the impact of having strong allies in the next steps to fostering inclusive communities. Come celebrate what we’ve built together and be inspired to continue the journey!\nThis is a safe space\, come as you are\, all are welcome.\nGuests include:\nMiranda Martini she/her- Affirming Connections\nStar Oldring they/them- Alberta GSA Network\nTina Que she/her- Rainbow Elders\nSydney Fleury they/them- Skipping Stone
URL:https://calgarypride.ca/event/what-now-dinner-panel-discussion/
LOCATION:8516 athabasca st. se\, 8516 ATHABASCA ST SE\, CALGARY\, Alberta\, T2H1S1\, Canada
CATEGORIES:Community Event,Food & Drink,Free,Speech
ATTACH;FMTTYPE=image/png:https://calgarypride.ca/wp-content/uploads/2025/03/April-11-Poster.png
END:VEVENT
BEGIN:VEVENT
DTSTART;TZID=America/Edmonton:20250516T170000
DTEND;TZID=America/Edmonton:20250516T220000
DTSTAMP:20260420T162510
CREATED:20250509T155630Z
LAST-MODIFIED:20250509T155630Z
UID:64381-1747414800-1747432800@calgarypride.ca
SUMMARY:The Highfield Food & Beverage Market Fest
DESCRIPTION:Discover the Brewery belt of Calgary\, Alberta (Manchester/Highfield SE Calgary) with over 30 vendors\, live entertainment and surprises!\nFriday – May 16th 5-10pm\n&\nSaturday – May 17th 10-4pm\nFor more information please email: events@dmeinc.ca or info@dmeinc.ca
URL:https://calgarypride.ca/event/the-highfield-food-beverage-market-fest/
LOCATION:544 38A Ave SE\, 544 38A Ave SE\, Calgary\, Alberta\, T2G 1X4\, Canada
CATEGORIES:Community Event,Festival,Food & Drink,Free
ORGANIZER;CN="Delisle Marketing &amp%3B Events":MAILTO:info@dmeinc.ca
END:VEVENT
BEGIN:VEVENT
DTSTART;TZID=America/Edmonton:20250516T170000
DTEND;TZID=America/Edmonton:20250516T220000
DTSTAMP:20260420T162510
CREATED:20250509T155630Z
LAST-MODIFIED:20250509T155630Z
UID:64381-1747414800-1747432800@calgarypride.ca
SUMMARY:The Highfield Food & Beverage Market Fest
DESCRIPTION:Discover the Brewery belt of Calgary\, Alberta (Manchester/Highfield SE Calgary) with over 30 vendors\, live entertainment and surprises!\nFriday – May 16th 5-10pm\n&\nSaturday – May 17th 10-4pm\nFor more information please email: events@dmeinc.ca or info@dmeinc.ca
URL:https://calgarypride.ca/event/the-highfield-food-beverage-market-fest/
LOCATION:544 38A Ave SE\, 544 38A Ave SE\, Calgary\, Alberta\, T2G 1X4\, Canada
CATEGORIES:Community Event,Festival,Food & Drink,Free
ORGANIZER;CN="Delisle Marketing &amp%3B Events":MAILTO:info@dmeinc.ca
END:VEVENT
BEGIN:VEVENT
DTSTART;TZID=America/Edmonton:20250612T180000
DTEND;TZID=America/Edmonton:20250613T000000
DTSTAMP:20260420T162510
CREATED:20250604T165257Z
LAST-MODIFIED:20250604T165257Z
UID:65094-1749751200-1749772800@calgarypride.ca
SUMMARY:Spark After Dark: Beyond the Rainbow
DESCRIPTION:On Friday\, June 13\, join TELUS Spark Science Centre for an 18+ evening that explores the science of identity\, expression\, and community. This special edition of Spark After Dark: Beyond the Rainbow… Again blends curiosity with celebration—featuring thought-provoking talks\, delicious food and drink\, and full access to Spark’s interactive exhibits. It’s a night where science meets self-expression in bold and colourful ways.
URL:https://calgarypride.ca/event/spark-after-dark-beyond-the-rainbow/
LOCATION:Telus Spark\, 220 St Georges Dr NE\, Calgary\, Alberta\, T2E 5T2\, Canada
CATEGORIES:Community Event,Drag,Food & Drink
ATTACH;FMTTYPE=image/png:https://calgarypride.ca/wp-content/uploads/2025/06/Digital-Ads-Beyond-the-Rainbow-Again-07.png
ORGANIZER;CN="Telus Spark":MAILTO:jacqueline.tran@sparkscience.ca
END:VEVENT
BEGIN:VEVENT
DTSTART;TZID=America/Edmonton:20250622T180000
DTEND;TZID=America/Edmonton:20250622T200000
DTSTAMP:20260420T162510
CREATED:20250603T211246Z
LAST-MODIFIED:20250618T203536Z
UID:65070-1750615200-1750622400@calgarypride.ca
SUMMARY:King of Drag Watch Party
DESCRIPTION:LONG LIVE DRAG KINGS! \nRevry TV is airing the first-ever Drag King competition show\, King of Drag\, and we couldn’t be more excited!! \nJoin us at Aroma Cafe Bar for a watch party and drag show featuring local Alberta Kings! The night promises to be casual\, fun\, community-minded\, and\, of course\, full of KINGS! \nDates? Every Sunday from June 22nd to July 27th \nTime? Doors at 6PM\, Drag Performances & Panel at 6:30PM\, Screening at 7PM \nLocation? Aroma Cafe Bar on 33rd Ave (1845 33 Ave SW\, Calgary) \nCost? $10 (Limited availability) \nAccessibility? Aroma Cafe Bar has an accessible washroom and a ramp up to the front entrance. Please note that the front door can be a bit narrow for some wheelchairs. Let us know how we can accommodate any needs here. There is parking on the surrounding streets and a bus stop right outside. The episode will have captions activated during the screening. \nHosted by? The sexy and suave El Rey del Sol! \nFeaturing? Local Alberta Drag Kings announced weekly! \nDrinks and snacks will be available for purchase at the venue. \nHave questions? Send us an email at recklessdaughtercreative@gmail.com
URL:https://calgarypride.ca/event/king-of-drag-watch-party/
LOCATION:Aroma Cafe Bar\, 1845 33 Ave SW\, Calgary\, AB\, T2T1Z1\, Canada
CATEGORIES:Drag,Food & Drink
ATTACH;FMTTYPE=image/png:https://calgarypride.ca/wp-content/uploads/2025/06/King-of-Drag-Watch-Party-IG-Post.png
ORGANIZER;CN="Reckless Daughter Creative":MAILTO:recklessdaughtercreative@gmail.com
END:VEVENT
BEGIN:VEVENT
DTSTART;TZID=America/Edmonton:20250622T180000
DTEND;TZID=America/Edmonton:20250622T200000
DTSTAMP:20260420T162510
CREATED:20250603T211246Z
LAST-MODIFIED:20250618T203536Z
UID:65070-1750615200-1750622400@calgarypride.ca
SUMMARY:King of Drag Watch Party
DESCRIPTION:LONG LIVE DRAG KINGS! \nRevry TV is airing the first-ever Drag King competition show\, King of Drag\, and we couldn’t be more excited!! \nJoin us at Aroma Cafe Bar for a watch party and drag show featuring local Alberta Kings! The night promises to be casual\, fun\, community-minded\, and\, of course\, full of KINGS! \nDates? Every Sunday from June 22nd to July 27th \nTime? Doors at 6PM\, Drag Performances & Panel at 6:30PM\, Screening at 7PM \nLocation? Aroma Cafe Bar on 33rd Ave (1845 33 Ave SW\, Calgary) \nCost? $10 (Limited availability) \nAccessibility? Aroma Cafe Bar has an accessible washroom and a ramp up to the front entrance. Please note that the front door can be a bit narrow for some wheelchairs. Let us know how we can accommodate any needs here. There is parking on the surrounding streets and a bus stop right outside. The episode will have captions activated during the screening. \nHosted by? The sexy and suave El Rey del Sol! \nFeaturing? Local Alberta Drag Kings announced weekly! \nDrinks and snacks will be available for purchase at the venue. \nHave questions? Send us an email at recklessdaughtercreative@gmail.com
URL:https://calgarypride.ca/event/king-of-drag-watch-party/
LOCATION:Aroma Cafe Bar\, 1845 33 Ave SW\, Calgary\, AB\, T2T1Z1\, Canada
CATEGORIES:Drag,Food & Drink
ATTACH;FMTTYPE=image/png:https://calgarypride.ca/wp-content/uploads/2025/06/King-of-Drag-Watch-Party-IG-Post.png
ORGANIZER;CN="Reckless Daughter Creative":MAILTO:recklessdaughtercreative@gmail.com
END:VEVENT
BEGIN:VEVENT
DTSTART;TZID=America/Edmonton:20250622T180000
DTEND;TZID=America/Edmonton:20250622T200000
DTSTAMP:20260420T162510
CREATED:20250603T211246Z
LAST-MODIFIED:20250618T203536Z
UID:65070-1750615200-1750622400@calgarypride.ca
SUMMARY:King of Drag Watch Party
DESCRIPTION:LONG LIVE DRAG KINGS! \nRevry TV is airing the first-ever Drag King competition show\, King of Drag\, and we couldn’t be more excited!! \nJoin us at Aroma Cafe Bar for a watch party and drag show featuring local Alberta Kings! The night promises to be casual\, fun\, community-minded\, and\, of course\, full of KINGS! \nDates? Every Sunday from June 22nd to July 27th \nTime? Doors at 6PM\, Drag Performances & Panel at 6:30PM\, Screening at 7PM \nLocation? Aroma Cafe Bar on 33rd Ave (1845 33 Ave SW\, Calgary) \nCost? $10 (Limited availability) \nAccessibility? Aroma Cafe Bar has an accessible washroom and a ramp up to the front entrance. Please note that the front door can be a bit narrow for some wheelchairs. Let us know how we can accommodate any needs here. There is parking on the surrounding streets and a bus stop right outside. The episode will have captions activated during the screening. \nHosted by? The sexy and suave El Rey del Sol! \nFeaturing? Local Alberta Drag Kings announced weekly! \nDrinks and snacks will be available for purchase at the venue. \nHave questions? Send us an email at recklessdaughtercreative@gmail.com
URL:https://calgarypride.ca/event/king-of-drag-watch-party/
LOCATION:Aroma Cafe Bar\, 1845 33 Ave SW\, Calgary\, AB\, T2T1Z1\, Canada
CATEGORIES:Drag,Food & Drink
ATTACH;FMTTYPE=image/png:https://calgarypride.ca/wp-content/uploads/2025/06/King-of-Drag-Watch-Party-IG-Post.png
ORGANIZER;CN="Reckless Daughter Creative":MAILTO:recklessdaughtercreative@gmail.com
END:VEVENT
BEGIN:VEVENT
DTSTART;TZID=America/Edmonton:20250622T180000
DTEND;TZID=America/Edmonton:20250622T200000
DTSTAMP:20260420T162510
CREATED:20250603T211246Z
LAST-MODIFIED:20250618T203536Z
UID:65070-1750615200-1750622400@calgarypride.ca
SUMMARY:King of Drag Watch Party
DESCRIPTION:LONG LIVE DRAG KINGS! \nRevry TV is airing the first-ever Drag King competition show\, King of Drag\, and we couldn’t be more excited!! \nJoin us at Aroma Cafe Bar for a watch party and drag show featuring local Alberta Kings! The night promises to be casual\, fun\, community-minded\, and\, of course\, full of KINGS! \nDates? Every Sunday from June 22nd to July 27th \nTime? Doors at 6PM\, Drag Performances & Panel at 6:30PM\, Screening at 7PM \nLocation? Aroma Cafe Bar on 33rd Ave (1845 33 Ave SW\, Calgary) \nCost? $10 (Limited availability) \nAccessibility? Aroma Cafe Bar has an accessible washroom and a ramp up to the front entrance. Please note that the front door can be a bit narrow for some wheelchairs. Let us know how we can accommodate any needs here. There is parking on the surrounding streets and a bus stop right outside. The episode will have captions activated during the screening. \nHosted by? The sexy and suave El Rey del Sol! \nFeaturing? Local Alberta Drag Kings announced weekly! \nDrinks and snacks will be available for purchase at the venue. \nHave questions? Send us an email at recklessdaughtercreative@gmail.com
URL:https://calgarypride.ca/event/king-of-drag-watch-party/
LOCATION:Aroma Cafe Bar\, 1845 33 Ave SW\, Calgary\, AB\, T2T1Z1\, Canada
CATEGORIES:Drag,Food & Drink
ATTACH;FMTTYPE=image/png:https://calgarypride.ca/wp-content/uploads/2025/06/King-of-Drag-Watch-Party-IG-Post.png
ORGANIZER;CN="Reckless Daughter Creative":MAILTO:recklessdaughtercreative@gmail.com
END:VEVENT
BEGIN:VEVENT
DTSTART;TZID=America/Edmonton:20250622T180000
DTEND;TZID=America/Edmonton:20250622T200000
DTSTAMP:20260420T162510
CREATED:20250603T211246Z
LAST-MODIFIED:20250618T203536Z
UID:65070-1750615200-1750622400@calgarypride.ca
SUMMARY:King of Drag Watch Party
DESCRIPTION:LONG LIVE DRAG KINGS! \nRevry TV is airing the first-ever Drag King competition show\, King of Drag\, and we couldn’t be more excited!! \nJoin us at Aroma Cafe Bar for a watch party and drag show featuring local Alberta Kings! The night promises to be casual\, fun\, community-minded\, and\, of course\, full of KINGS! \nDates? Every Sunday from June 22nd to July 27th \nTime? Doors at 6PM\, Drag Performances & Panel at 6:30PM\, Screening at 7PM \nLocation? Aroma Cafe Bar on 33rd Ave (1845 33 Ave SW\, Calgary) \nCost? $10 (Limited availability) \nAccessibility? Aroma Cafe Bar has an accessible washroom and a ramp up to the front entrance. Please note that the front door can be a bit narrow for some wheelchairs. Let us know how we can accommodate any needs here. There is parking on the surrounding streets and a bus stop right outside. The episode will have captions activated during the screening. \nHosted by? The sexy and suave El Rey del Sol! \nFeaturing? Local Alberta Drag Kings announced weekly! \nDrinks and snacks will be available for purchase at the venue. \nHave questions? Send us an email at recklessdaughtercreative@gmail.com
URL:https://calgarypride.ca/event/king-of-drag-watch-party/
LOCATION:Aroma Cafe Bar\, 1845 33 Ave SW\, Calgary\, AB\, T2T1Z1\, Canada
CATEGORIES:Drag,Food & Drink
ATTACH;FMTTYPE=image/png:https://calgarypride.ca/wp-content/uploads/2025/06/King-of-Drag-Watch-Party-IG-Post.png
ORGANIZER;CN="Reckless Daughter Creative":MAILTO:recklessdaughtercreative@gmail.com
END:VEVENT
BEGIN:VEVENT
DTSTART;TZID=America/Edmonton:20250622T180000
DTEND;TZID=America/Edmonton:20250622T200000
DTSTAMP:20260420T162510
CREATED:20250603T211246Z
LAST-MODIFIED:20250618T203536Z
UID:65070-1750615200-1750622400@calgarypride.ca
SUMMARY:King of Drag Watch Party
DESCRIPTION:LONG LIVE DRAG KINGS! \nRevry TV is airing the first-ever Drag King competition show\, King of Drag\, and we couldn’t be more excited!! \nJoin us at Aroma Cafe Bar for a watch party and drag show featuring local Alberta Kings! The night promises to be casual\, fun\, community-minded\, and\, of course\, full of KINGS! \nDates? Every Sunday from June 22nd to July 27th \nTime? Doors at 6PM\, Drag Performances & Panel at 6:30PM\, Screening at 7PM \nLocation? Aroma Cafe Bar on 33rd Ave (1845 33 Ave SW\, Calgary) \nCost? $10 (Limited availability) \nAccessibility? Aroma Cafe Bar has an accessible washroom and a ramp up to the front entrance. Please note that the front door can be a bit narrow for some wheelchairs. Let us know how we can accommodate any needs here. There is parking on the surrounding streets and a bus stop right outside. The episode will have captions activated during the screening. \nHosted by? The sexy and suave El Rey del Sol! \nFeaturing? Local Alberta Drag Kings announced weekly! \nDrinks and snacks will be available for purchase at the venue. \nHave questions? Send us an email at recklessdaughtercreative@gmail.com
URL:https://calgarypride.ca/event/king-of-drag-watch-party/
LOCATION:Aroma Cafe Bar\, 1845 33 Ave SW\, Calgary\, AB\, T2T1Z1\, Canada
CATEGORIES:Drag,Food & Drink
ATTACH;FMTTYPE=image/png:https://calgarypride.ca/wp-content/uploads/2025/06/King-of-Drag-Watch-Party-IG-Post.png
ORGANIZER;CN="Reckless Daughter Creative":MAILTO:recklessdaughtercreative@gmail.com
END:VEVENT
BEGIN:VEVENT
DTSTART;TZID=America/Edmonton:20250830T110000
DTEND;TZID=America/Edmonton:20250830T140000
DTSTAMP:20260420T162510
CREATED:20250820T174303Z
LAST-MODIFIED:20250820T174303Z
UID:65431-1756551600-1756562400@calgarypride.ca
SUMMARY:Morning Glory Burlesque Brunch- Pride Edition
DESCRIPTION:Join The Cabaret Company at The Attic Bar & Stage on Saturday August 30th for MORNING GLORY: Burlesque Brunch- Calgary’s ONLY burlesque brunch. The PRIDE Edition!\nEnjoy $7 mimosas\, delicious plant-based brunch menu\, and sultry burlesque artists as they heat up the stage and spice up your Saturday afternoon. \nDoors at 10:45am\, show at 12pm.\nAll tickets are first come first serve general admission seating. Arrive early for the best seats!
URL:https://calgarypride.ca/event/morning-glory-burlesque-brunch-pride-edition/
LOCATION:The Attic Bar & Stage\, 1413 9 Avenue Southeast\, Calgary\, Alberta\, T2G 0T4
CATEGORIES:Burlesque,Dance,Food & Drink
ATTACH;FMTTYPE=image/png:https://calgarypride.ca/wp-content/uploads/2025/08/11.png
ORGANIZER;CN="The Cabaret Company":MAILTO:thecabco.ent@gmail.com
END:VEVENT
BEGIN:VEVENT
DTSTART;TZID=America/Edmonton:20250903T123000
DTEND;TZID=America/Edmonton:20250903T133000
DTSTAMP:20260420T162510
CREATED:20250828T160553Z
LAST-MODIFIED:20250828T160553Z
UID:65502-1756902600-1756906200@calgarypride.ca
SUMMARY:🌈🍕🥳 Pride Pizza Party
DESCRIPTION:Join us for a slice* where every topping is welcome and every heart is celebrated! \nCome solo or bring a friend – everyone’s welcome at this event. \n*Pizza available while supplies last.
URL:https://calgarypride.ca/event/%f0%9f%8c%88%f0%9f%8d%95%f0%9f%a5%b3-pride-pizza-party/
LOCATION:223 12 Ave SW\, 223 12 Avenue Southwest\, Calgary\, AB\, T2R\, Canada
CATEGORIES:Community Event,Food & Drink,Free
END:VEVENT
END:VCALENDAR