BEGIN:VCALENDAR
VERSION:2.0
PRODID:-//Calgary Pride - ECPv6.15.20//NONSGML v1.0//EN
CALSCALE:GREGORIAN
METHOD:PUBLISH
X-WR-CALNAME:Calgary Pride
X-ORIGINAL-URL:https://calgarypride.ca
X-WR-CALDESC:Events for Calgary Pride
REFRESH-INTERVAL;VALUE=DURATION:PT1H
X-Robots-Tag:noindex
X-PUBLISHED-TTL:PT1H
BEGIN:VTIMEZONE
TZID:America/Edmonton
BEGIN:DAYLIGHT
TZOFFSETFROM:-0700
TZOFFSETTO:-0600
TZNAME:MDT
DTSTART:20190310T090000
END:DAYLIGHT
BEGIN:STANDARD
TZOFFSETFROM:-0600
TZOFFSETTO:-0700
TZNAME:MST
DTSTART:20191103T080000
END:STANDARD
BEGIN:DAYLIGHT
TZOFFSETFROM:-0700
TZOFFSETTO:-0600
TZNAME:MDT
DTSTART:20200308T090000
END:DAYLIGHT
BEGIN:STANDARD
TZOFFSETFROM:-0600
TZOFFSETTO:-0700
TZNAME:MST
DTSTART:20201101T080000
END:STANDARD
BEGIN:DAYLIGHT
TZOFFSETFROM:-0700
TZOFFSETTO:-0600
TZNAME:MDT
DTSTART:20210314T090000
END:DAYLIGHT
BEGIN:STANDARD
TZOFFSETFROM:-0600
TZOFFSETTO:-0700
TZNAME:MST
DTSTART:20211107T080000
END:STANDARD
BEGIN:DAYLIGHT
TZOFFSETFROM:-0700
TZOFFSETTO:-0600
TZNAME:MDT
DTSTART:20220313T090000
END:DAYLIGHT
BEGIN:STANDARD
TZOFFSETFROM:-0600
TZOFFSETTO:-0700
TZNAME:MST
DTSTART:20221106T080000
END:STANDARD
END:VTIMEZONE
BEGIN:VEVENT
DTSTART;TZID=America/Edmonton:20211009T193000
DTEND;TZID=America/Edmonton:20211009T220000
DTSTAMP:20260421T181156
CREATED:20210922T194432Z
LAST-MODIFIED:20210922T194432Z
UID:54575-1633807800-1633816800@calgarypride.ca
SUMMARY:The Fall Drag Ball
DESCRIPTION:[et_pb_section][et_pb_row][et_pb_column type=”4_4″][et_pb_text]\nPlain Jane Events presents The Fall Drag Ball featuring a cast of fabulous Kings and Queens at the Blind Beggar Smokehouse on Saturday October 9th.\nHosted by Kylee Roman from Virgin Radio join us for a night of glitz and glam featuring music from all of your absolute favorite pop superstars. It will be pop royalty at it’s finest!\nPurchase tickets by the table or General Admission.\n[/et_pb_text][/et_pb_column][/et_pb_row][/et_pb_section]
URL:https://calgarypride.ca/event/the-fall-drag-ball/
LOCATION:AB
CATEGORIES:Dance,Drag,Food & Drink,Over 18,QTBIPOC
ATTACH;FMTTYPE=:
ORGANIZER;CN="Plain Jane Events":MAILTO:jane@plainjaneevents.ca
END:VEVENT
BEGIN:VEVENT
DTSTART;TZID=America/Edmonton:20210904T110000
DTEND;TZID=America/Edmonton:20210904T183000
DTSTAMP:20260421T181156
CREATED:20210819T131639Z
LAST-MODIFIED:20210819T131639Z
UID:57713-1630753200-1630780200@calgarypride.ca
SUMMARY:Two-Spirit Celebration 2021 - Mînî Thnî (Morley)
DESCRIPTION:It’s Happening!!?? \nSaturday\, September 4th\, 2021 \nStoney Tribal Administration Front Parking Lot. \nMorley Two Spirit Pride 2021? \nThe 3rd Annual Celebration of Pride.? \n“Celebrating our two spirit community members n their allies of Mînî Thnî (Morley).” \n11am – Smudging Ceremony by Elder Hank Snow. \n12pm – Awareness Walk/Mini Parade (route will be from Morley Gym to Stoney Tribal Administration Front Parking Lot.) \n1pm – Blessing & Welcoming remarks by Elder Tina Fox\n-Speeches by Pride Committee\, Leadership\, Sponsors & Community Members who wish to share their stories of being two spirit. \n1pm to 4:30pm-Community BBQ\, Flea Market\, Entertainment. \n2pm-Elder Story Telling by Elder Alice Kaquitts & Trent Fox. \n3pm-Pow Wow Presentations \n4pm-Special Guest Performances by the talented Indigenous Artist\, FAWN WOOD. \n5pm-Drag Cabaret with Performances by Argintina Hailey\, Lola Chokecherry\, Angelina Starchild\, Lemmy O’Fendi. With surprise guest performances.\n.\n..\n…\n#twospiritpride. #twospirit. #pride. #worldpride. #albertapride. #dragroyalty. #yycdragroyalty. #indigiqueer. #fawnwood. #powwow. #morleypride. #stoneynakoda.
URL:https://calgarypride.ca/event/two-spirit-celebration-2021/
LOCATION:AB
CATEGORIES:Community Event,Drag,Festival,Indigenous Events,Morley Pride,musician,QTBIPOC
ATTACH;FMTTYPE=:
END:VEVENT
BEGIN:VEVENT
DTSTART;TZID=America/Edmonton:20210903T170000
DTEND;TZID=America/Edmonton:20210904T020000
DTSTAMP:20260421T181156
CREATED:20210818T173948Z
LAST-MODIFIED:20210818T173948Z
UID:57712-1630688400-1630720800@calgarypride.ca
SUMMARY:The Movement -  Girls on Deck YYC
DESCRIPTION:Were back and doing it for PRIDE \nJoin the girls on decks yyc crew as we bring you The Movement – with treaty 7’s finest LGBTQ+2S DJ’s\, MC’s\, Drag\, Burlesque and More… \nCover charge in effect. 18+ after 9PM. \nRooftop Partio 5 -10PM – Main Room 9 -2AM \n  \nFeaturing: \n\nMollyFi\nRebecca Dawn MC\nChris B\nRiki Rocket (Jasper\, AB)\nKloves\nWavelength\nAnput
URL:https://calgarypride.ca/event/the-movement-girls-on-deck-yyc/
LOCATION:Broken City\, 613 11 Avenue SW\, Calgary\, AB\, T2R 0E1\, Canada
CATEGORIES:Burlesque,Dance,DJ,Drag,Food & Drink,MC,Miscellaneous,musician,Over 18,Variety
ATTACH;FMTTYPE=:
END:VEVENT
BEGIN:VEVENT
DTSTART;TZID=America/Edmonton:20210830T180000
DTEND;TZID=America/Edmonton:20210830T200000
DTSTAMP:20260421T181156
CREATED:20210828T163343Z
LAST-MODIFIED:20210828T163343Z
UID:57717-1630346400-1630353600@calgarypride.ca
SUMMARY:Kick off Pride with Monique Auffrey at Twisted Element
DESCRIPTION:https://www.eventbrite.com/e/kick-off-pride-with-monique-auffrey-and-friends-tickets-167878018673?aff=efbneb
URL:https://calgarypride.ca/event/kick-off-pride-with-monique-auffrey-at-twisted-element/
LOCATION:Twisted Element\, 1006 - 11th Ave SW\, Calgary\, AB\, T2R 0G3\, Canada
CATEGORIES:Dance,DJ,Drag,Headliner,Over 18,Virtual
END:VEVENT
BEGIN:VEVENT
DTSTART;TZID=America/Edmonton:20210821T140000
DTEND;TZID=America/Edmonton:20210821T220000
DTSTAMP:20260421T181156
CREATED:20210817T193440Z
LAST-MODIFIED:20210817T193440Z
UID:54142-1629554400-1629583200@calgarypride.ca
SUMMARY:Cochrane Pride Festival
DESCRIPTION:Cochrane Pride week is going out with a festivities with a bang!!\nJoin us from 2pm – 10pm for a day of inclusive vendors\, LGBTQ2S+ artists and performers and the Brew Bus \nFeaturing performances by Amy Bishop\, Hayden McHugh\, Smother Theresa\, Karla Marx\, The Marvelous Mo B and Slamda BackDoor!\nA full list of vendors is to follow. But trust me it’s good! I made the list I should know \nP.S the festival takes place at Mitford Park\, not in the pond.
URL:https://calgarypride.ca/event/cochrane-pride-festival/
LOCATION:AB
CATEGORIES:Community Event,Drag,Drag - Group,Festival,Food & Drink,Free,musician,Variety
ATTACH;FMTTYPE=:
ORGANIZER;CN="Cochrane Pride":MAILTO:lynn@cochranepride.ca
END:VEVENT
BEGIN:VEVENT
DTSTART;TZID=America/Edmonton:20201216T190000
DTEND;TZID=America/Edmonton:20201216T200000
DTSTAMP:20260421T181156
CREATED:20201126T003527Z
LAST-MODIFIED:20201126T003527Z
UID:51330-1608145200-1608148800@calgarypride.ca
SUMMARY:Christmas Carol: A Drag Story
DESCRIPTION:Christmas Carol: A Drag Story \nNew Queer Theatre Collective Gears Up for Inaugural Production \nBlue Jeans Theatre\, a new queer theatre collective in Calgary\, is gearing up for their first-ever production\, Christmas Carol: A Drag Story. This adaptation of Charles Dickens’ classic Christmas tale showcases all your favourite characters with a modern-day twist\, while keeping the time-honoured elements of magic and joy. The show will run from December 16th through to and including December 23rd\, 2020. Given our Covid-19 reality this will be a virtual production. Tickets for the online run can be found at https://christmascaroladragstory.bpt.me \nBlue Jeans Theatre is a newly founded queer theatre collective headed by Shannon Murphy and Kristy Benz. The two have compiled an incredible cast to bring this show to life\, who audiences will likely recognize from past productions by Handsome Alice\, Alberta Theatre Projects\, and Theatre Calgary. For this show Blue Jeans Theatre is also extremely lucky to have the technical direction of Graham Kingsley\, who worked on this summer’s virtual production of Shakespeare by the Bow’s Romeo and Juliet. With an almost entirely LGBTQA2SI+ cast and crew\, the team is thrilled to be bringing queer content to Calgary stages – and screens. \nBlue Jeans Theatre creates work aimed at bringing community together\, making theatre accessible to the public\, spreading joy and acceptance\, and providing opportunities for queer artists.
URL:https://calgarypride.ca/event/christmas-carol-a-drag-story/
LOCATION:AB
CATEGORIES:Drag,Virtual
ATTACH;FMTTYPE=:
ORGANIZER;CN="Blue Jeans Theatre":MAILTO:bluejeanstheatre@gmail.com
END:VEVENT
BEGIN:VEVENT
DTSTART;TZID=America/Edmonton:20201216T190000
DTEND;TZID=America/Edmonton:20201216T200000
DTSTAMP:20260421T181156
CREATED:20201126T003527Z
LAST-MODIFIED:20201126T003527Z
UID:51330-1608145200-1608148800@calgarypride.ca
SUMMARY:Christmas Carol: A Drag Story
DESCRIPTION:Christmas Carol: A Drag Story \nNew Queer Theatre Collective Gears Up for Inaugural Production \nBlue Jeans Theatre\, a new queer theatre collective in Calgary\, is gearing up for their first-ever production\, Christmas Carol: A Drag Story. This adaptation of Charles Dickens’ classic Christmas tale showcases all your favourite characters with a modern-day twist\, while keeping the time-honoured elements of magic and joy. The show will run from December 16th through to and including December 23rd\, 2020. Given our Covid-19 reality this will be a virtual production. Tickets for the online run can be found at https://christmascaroladragstory.bpt.me \nBlue Jeans Theatre is a newly founded queer theatre collective headed by Shannon Murphy and Kristy Benz. The two have compiled an incredible cast to bring this show to life\, who audiences will likely recognize from past productions by Handsome Alice\, Alberta Theatre Projects\, and Theatre Calgary. For this show Blue Jeans Theatre is also extremely lucky to have the technical direction of Graham Kingsley\, who worked on this summer’s virtual production of Shakespeare by the Bow’s Romeo and Juliet. With an almost entirely LGBTQA2SI+ cast and crew\, the team is thrilled to be bringing queer content to Calgary stages – and screens. \nBlue Jeans Theatre creates work aimed at bringing community together\, making theatre accessible to the public\, spreading joy and acceptance\, and providing opportunities for queer artists.
URL:https://calgarypride.ca/event/christmas-carol-a-drag-story/
LOCATION:AB
CATEGORIES:Drag,Virtual
ATTACH;FMTTYPE=:
ORGANIZER;CN="Blue Jeans Theatre":MAILTO:bluejeanstheatre@gmail.com
END:VEVENT
BEGIN:VEVENT
DTSTART;TZID=America/Edmonton:20201216T190000
DTEND;TZID=America/Edmonton:20201216T200000
DTSTAMP:20260421T181156
CREATED:20201126T003527Z
LAST-MODIFIED:20201126T003527Z
UID:51330-1608145200-1608148800@calgarypride.ca
SUMMARY:Christmas Carol: A Drag Story
DESCRIPTION:Christmas Carol: A Drag Story \nNew Queer Theatre Collective Gears Up for Inaugural Production \nBlue Jeans Theatre\, a new queer theatre collective in Calgary\, is gearing up for their first-ever production\, Christmas Carol: A Drag Story. This adaptation of Charles Dickens’ classic Christmas tale showcases all your favourite characters with a modern-day twist\, while keeping the time-honoured elements of magic and joy. The show will run from December 16th through to and including December 23rd\, 2020. Given our Covid-19 reality this will be a virtual production. Tickets for the online run can be found at https://christmascaroladragstory.bpt.me \nBlue Jeans Theatre is a newly founded queer theatre collective headed by Shannon Murphy and Kristy Benz. The two have compiled an incredible cast to bring this show to life\, who audiences will likely recognize from past productions by Handsome Alice\, Alberta Theatre Projects\, and Theatre Calgary. For this show Blue Jeans Theatre is also extremely lucky to have the technical direction of Graham Kingsley\, who worked on this summer’s virtual production of Shakespeare by the Bow’s Romeo and Juliet. With an almost entirely LGBTQA2SI+ cast and crew\, the team is thrilled to be bringing queer content to Calgary stages – and screens. \nBlue Jeans Theatre creates work aimed at bringing community together\, making theatre accessible to the public\, spreading joy and acceptance\, and providing opportunities for queer artists.
URL:https://calgarypride.ca/event/christmas-carol-a-drag-story/
LOCATION:AB
CATEGORIES:Drag,Virtual
ATTACH;FMTTYPE=:
ORGANIZER;CN="Blue Jeans Theatre":MAILTO:bluejeanstheatre@gmail.com
END:VEVENT
BEGIN:VEVENT
DTSTART;TZID=America/Edmonton:20201216T190000
DTEND;TZID=America/Edmonton:20201216T200000
DTSTAMP:20260421T181156
CREATED:20201126T003527Z
LAST-MODIFIED:20201126T003527Z
UID:51330-1608145200-1608148800@calgarypride.ca
SUMMARY:Christmas Carol: A Drag Story
DESCRIPTION:Christmas Carol: A Drag Story \nNew Queer Theatre Collective Gears Up for Inaugural Production \nBlue Jeans Theatre\, a new queer theatre collective in Calgary\, is gearing up for their first-ever production\, Christmas Carol: A Drag Story. This adaptation of Charles Dickens’ classic Christmas tale showcases all your favourite characters with a modern-day twist\, while keeping the time-honoured elements of magic and joy. The show will run from December 16th through to and including December 23rd\, 2020. Given our Covid-19 reality this will be a virtual production. Tickets for the online run can be found at https://christmascaroladragstory.bpt.me \nBlue Jeans Theatre is a newly founded queer theatre collective headed by Shannon Murphy and Kristy Benz. The two have compiled an incredible cast to bring this show to life\, who audiences will likely recognize from past productions by Handsome Alice\, Alberta Theatre Projects\, and Theatre Calgary. For this show Blue Jeans Theatre is also extremely lucky to have the technical direction of Graham Kingsley\, who worked on this summer’s virtual production of Shakespeare by the Bow’s Romeo and Juliet. With an almost entirely LGBTQA2SI+ cast and crew\, the team is thrilled to be bringing queer content to Calgary stages – and screens. \nBlue Jeans Theatre creates work aimed at bringing community together\, making theatre accessible to the public\, spreading joy and acceptance\, and providing opportunities for queer artists.
URL:https://calgarypride.ca/event/christmas-carol-a-drag-story/
LOCATION:AB
CATEGORIES:Drag,Virtual
ATTACH;FMTTYPE=:
ORGANIZER;CN="Blue Jeans Theatre":MAILTO:bluejeanstheatre@gmail.com
END:VEVENT
BEGIN:VEVENT
DTSTART;TZID=America/Edmonton:20201216T190000
DTEND;TZID=America/Edmonton:20201216T200000
DTSTAMP:20260421T181156
CREATED:20201126T003527Z
LAST-MODIFIED:20201126T003527Z
UID:51330-1608145200-1608148800@calgarypride.ca
SUMMARY:Christmas Carol: A Drag Story
DESCRIPTION:Christmas Carol: A Drag Story \nNew Queer Theatre Collective Gears Up for Inaugural Production \nBlue Jeans Theatre\, a new queer theatre collective in Calgary\, is gearing up for their first-ever production\, Christmas Carol: A Drag Story. This adaptation of Charles Dickens’ classic Christmas tale showcases all your favourite characters with a modern-day twist\, while keeping the time-honoured elements of magic and joy. The show will run from December 16th through to and including December 23rd\, 2020. Given our Covid-19 reality this will be a virtual production. Tickets for the online run can be found at https://christmascaroladragstory.bpt.me \nBlue Jeans Theatre is a newly founded queer theatre collective headed by Shannon Murphy and Kristy Benz. The two have compiled an incredible cast to bring this show to life\, who audiences will likely recognize from past productions by Handsome Alice\, Alberta Theatre Projects\, and Theatre Calgary. For this show Blue Jeans Theatre is also extremely lucky to have the technical direction of Graham Kingsley\, who worked on this summer’s virtual production of Shakespeare by the Bow’s Romeo and Juliet. With an almost entirely LGBTQA2SI+ cast and crew\, the team is thrilled to be bringing queer content to Calgary stages – and screens. \nBlue Jeans Theatre creates work aimed at bringing community together\, making theatre accessible to the public\, spreading joy and acceptance\, and providing opportunities for queer artists.
URL:https://calgarypride.ca/event/christmas-carol-a-drag-story/
LOCATION:AB
CATEGORIES:Drag,Virtual
ATTACH;FMTTYPE=:
ORGANIZER;CN="Blue Jeans Theatre":MAILTO:bluejeanstheatre@gmail.com
END:VEVENT
BEGIN:VEVENT
DTSTART;TZID=America/Edmonton:20201216T190000
DTEND;TZID=America/Edmonton:20201216T200000
DTSTAMP:20260421T181156
CREATED:20201126T003527Z
LAST-MODIFIED:20201126T003527Z
UID:51330-1608145200-1608148800@calgarypride.ca
SUMMARY:Christmas Carol: A Drag Story
DESCRIPTION:Christmas Carol: A Drag Story \nNew Queer Theatre Collective Gears Up for Inaugural Production \nBlue Jeans Theatre\, a new queer theatre collective in Calgary\, is gearing up for their first-ever production\, Christmas Carol: A Drag Story. This adaptation of Charles Dickens’ classic Christmas tale showcases all your favourite characters with a modern-day twist\, while keeping the time-honoured elements of magic and joy. The show will run from December 16th through to and including December 23rd\, 2020. Given our Covid-19 reality this will be a virtual production. Tickets for the online run can be found at https://christmascaroladragstory.bpt.me \nBlue Jeans Theatre is a newly founded queer theatre collective headed by Shannon Murphy and Kristy Benz. The two have compiled an incredible cast to bring this show to life\, who audiences will likely recognize from past productions by Handsome Alice\, Alberta Theatre Projects\, and Theatre Calgary. For this show Blue Jeans Theatre is also extremely lucky to have the technical direction of Graham Kingsley\, who worked on this summer’s virtual production of Shakespeare by the Bow’s Romeo and Juliet. With an almost entirely LGBTQA2SI+ cast and crew\, the team is thrilled to be bringing queer content to Calgary stages – and screens. \nBlue Jeans Theatre creates work aimed at bringing community together\, making theatre accessible to the public\, spreading joy and acceptance\, and providing opportunities for queer artists.
URL:https://calgarypride.ca/event/christmas-carol-a-drag-story/
LOCATION:AB
CATEGORIES:Drag,Virtual
ATTACH;FMTTYPE=:
ORGANIZER;CN="Blue Jeans Theatre":MAILTO:bluejeanstheatre@gmail.com
END:VEVENT
BEGIN:VEVENT
DTSTART;TZID=America/Edmonton:20201216T190000
DTEND;TZID=America/Edmonton:20201216T200000
DTSTAMP:20260421T181156
CREATED:20201126T003527Z
LAST-MODIFIED:20201126T003527Z
UID:51330-1608145200-1608148800@calgarypride.ca
SUMMARY:Christmas Carol: A Drag Story
DESCRIPTION:Christmas Carol: A Drag Story \nNew Queer Theatre Collective Gears Up for Inaugural Production \nBlue Jeans Theatre\, a new queer theatre collective in Calgary\, is gearing up for their first-ever production\, Christmas Carol: A Drag Story. This adaptation of Charles Dickens’ classic Christmas tale showcases all your favourite characters with a modern-day twist\, while keeping the time-honoured elements of magic and joy. The show will run from December 16th through to and including December 23rd\, 2020. Given our Covid-19 reality this will be a virtual production. Tickets for the online run can be found at https://christmascaroladragstory.bpt.me \nBlue Jeans Theatre is a newly founded queer theatre collective headed by Shannon Murphy and Kristy Benz. The two have compiled an incredible cast to bring this show to life\, who audiences will likely recognize from past productions by Handsome Alice\, Alberta Theatre Projects\, and Theatre Calgary. For this show Blue Jeans Theatre is also extremely lucky to have the technical direction of Graham Kingsley\, who worked on this summer’s virtual production of Shakespeare by the Bow’s Romeo and Juliet. With an almost entirely LGBTQA2SI+ cast and crew\, the team is thrilled to be bringing queer content to Calgary stages – and screens. \nBlue Jeans Theatre creates work aimed at bringing community together\, making theatre accessible to the public\, spreading joy and acceptance\, and providing opportunities for queer artists.
URL:https://calgarypride.ca/event/christmas-carol-a-drag-story/
LOCATION:AB
CATEGORIES:Drag,Virtual
ATTACH;FMTTYPE=:
ORGANIZER;CN="Blue Jeans Theatre":MAILTO:bluejeanstheatre@gmail.com
END:VEVENT
END:VCALENDAR