BEGIN:VCALENDAR
VERSION:2.0
PRODID:-//Calgary Pride - ECPv6.15.20//NONSGML v1.0//EN
CALSCALE:GREGORIAN
METHOD:PUBLISH
X-WR-CALNAME:Calgary Pride
X-ORIGINAL-URL:https://calgarypride.ca
X-WR-CALDESC:Events for Calgary Pride
REFRESH-INTERVAL;VALUE=DURATION:PT1H
X-Robots-Tag:noindex
X-PUBLISHED-TTL:PT1H
BEGIN:VTIMEZONE
TZID:America/Edmonton
BEGIN:DAYLIGHT
TZOFFSETFROM:-0700
TZOFFSETTO:-0600
TZNAME:MDT
DTSTART:20220313T090000
END:DAYLIGHT
BEGIN:STANDARD
TZOFFSETFROM:-0600
TZOFFSETTO:-0700
TZNAME:MST
DTSTART:20221106T080000
END:STANDARD
BEGIN:DAYLIGHT
TZOFFSETFROM:-0700
TZOFFSETTO:-0600
TZNAME:MDT
DTSTART:20230312T090000
END:DAYLIGHT
BEGIN:STANDARD
TZOFFSETFROM:-0600
TZOFFSETTO:-0700
TZNAME:MST
DTSTART:20231105T080000
END:STANDARD
BEGIN:DAYLIGHT
TZOFFSETFROM:-0700
TZOFFSETTO:-0600
TZNAME:MDT
DTSTART:20240310T090000
END:DAYLIGHT
BEGIN:STANDARD
TZOFFSETFROM:-0600
TZOFFSETTO:-0700
TZNAME:MST
DTSTART:20241103T080000
END:STANDARD
END:VTIMEZONE
BEGIN:VEVENT
DTSTART;TZID=America/Edmonton:20230817T180000
DTEND;TZID=America/Edmonton:20230817T220000
DTSTAMP:20260424T123358
CREATED:20230801T205859Z
LAST-MODIFIED:20230801T210334Z
UID:61928-1692295200-1692309600@calgarypride.ca
SUMMARY:Calgary Pride x FORIEGNERZ - WORK 2023 Pride Gala
DESCRIPTION:We’re excited to announce WORK\, a Fashion Show & Runway installation by FOREIGNERZ\, exclusive to our 2023 Calgary Pride Sponsorship Gala taking place on August 17 at the Fairmont Palliser. \nWORK invites the viewer to consider the currency of our time and think deeply about what it actually means to work. What does it mean to survive in a post-pandemic era\, where the politics of aesthetics and desire drive us. In 2023 we are hustlers\, movers\, shakers\, and people who are asked to take on multiple identities to simply exist. With WORK\, FOREIGNERZ brings together the roots of Pride\, visibility\, survival\, power\, and the ability to create a new future through honest and jubilant relationships to our body\, with urgent questions about the politics of labor\, a culture of optimization\, and human value. \nWORK is the second Runway show from the house of FOREIGNERZ with Creative Direction from @jaesterling. WORK will be a multidisciplinary fashion installation that brings together emerging talent from Alberta in the fashion\, music\, and art space. \nAs this show is a part of our annual Sponsorship Gala\, this event will have a limited quantity of tickets available to the public. \nWe cannot wait to present FOREIGNERZ vision\, and we’ll remind you that for this event\, fits ARE required.
URL:https://calgarypride.ca/event/calgary-pride-x-foriegnerz-work-2023-pride-gala/
LOCATION:Fairmont Palliser\, Calgary\, 133 9 Avenue Southwest\, Calgary\, AB\, T2P 2M3\, Canada
CATEGORIES:Community Event,Dance,DJ,Official Events,Signature Events
ATTACH;FMTTYPE=image/png:https://calgarypride.ca/wp-content/uploads/2023/08/2-1.png
END:VEVENT
BEGIN:VEVENT
DTSTART;TZID=America/Edmonton:20230827T180000
DTEND;TZID=America/Edmonton:20230827T210000
DTSTAMP:20260424T123358
CREATED:20230801T205212Z
LAST-MODIFIED:20230801T210246Z
UID:61926-1693159200-1693170000@calgarypride.ca
SUMMARY:Queer Cult Favorite Celebration - The Rocky Horror Picture Show
DESCRIPTION:Experience the iconic “The Rocky Horror Picture Show” like never before at the Calgary Central Library on August 27\, 2023! Step into a world where queerness\, liberation\, and self-expression reign supreme as we celebrate this beloved movie that holds a special place in the hearts of the queer community. \nJoin us for a night of joyous revelry as we pay tribute to the film’s profound impact on LGBTQ+ culture. The Rocky Horror Picture Show has been hailed as an empowering beacon for the queer community\, embracing non-conformity and inspiring individuals to embrace their authentic selves unapologetically. \nDelve into the extravagant world of Dr. Frank-N-Furter and the Time Warp with like-minded individuals who cherish this movie for its bold embrace of gender fluidity and acceptance. Through its celebration of diverse identities\, the breaking of societal norms\, and the exploration of sexual liberation\, this film has become a symbol of inclusivity and acceptance. \nAs we gather to watch this queer cult classic\, we celebrate its role in fostering a sense of belonging and kinship among queer individuals. Come and be a part of this powerful cinematic experience that has united the queer community for decades. \nDoors open at 6:00pm \, and the screening starts at 7:30. Admission is free\, but limited seating is available. Reserve your spot now and join us in celebrating the timeless magic of “The Rocky Horror Picture Show.” \nLet’s come together for an unforgettable night of queer pride\, laughter\, and camaraderie in the spirit of “The Rocky Horror Picture Show!” \nhttps://calgarylibrary.ca/about-the-library/membership-agreement
URL:https://calgarypride.ca/event/queer-cult-favorite-celebration-the-rocky-horror-picture-show/
LOCATION:Calgary Central Library\, 800 3 St SE\, Calgary\, AB\, T2G 0E7\, Canada
CATEGORIES:Community Event,Drag,Festival,Free
END:VEVENT
BEGIN:VEVENT
DTSTART;TZID=America/Edmonton:20230827T190000
DTEND;TZID=America/Edmonton:20230827T203000
DTSTAMP:20260424T123358
CREATED:20230623T183422Z
LAST-MODIFIED:20230623T183422Z
UID:60933-1693162800-1693168200@calgarypride.ca
SUMMARY:5th Annual Citywide Pride Interfaith Gathering
DESCRIPTION:5th Annual Citywide Pride Interfaith Gathering\nSunday\, August 27\, 7pm\nAffirming Connections and Calgary’s Network of Affirming Faith Communities are proudly presenting the 5th annual Citywide Pride Gathering! \nJoin us for interfaith reflections\, celebrations of queer identities\, with storytelling and music from Emmet Michael! \nHosted in person at the beautiful Beth Tzedec Congregation in Calgary and streamed live online for anyone to join us. \nLearn more here:\nhttps://affirmingconnections.com/what-were-up-to \nMore about our special guest musician:\nhttps://emmetmichaelmusic.com/home
URL:https://calgarypride.ca/event/5th-annual-citywide-pride-interfaith-gathering/
LOCATION:Beth Tzedec Congregation\, 1325 Glenmore Trail SW\, Calgary\, Alberta\, T2V 4Y8\, Canada
CATEGORIES:Community Event,Free,Religious Service
ATTACH;FMTTYPE=image/jpeg:https://calgarypride.ca/wp-content/uploads/2023/06/facebook.jpg
ORGANIZER;CN="Affirming Connections":MAILTO:pam@affirmingconnections.com
END:VEVENT
BEGIN:VEVENT
DTSTART;TZID=America/Edmonton:20230828T180000
DTEND;TZID=America/Edmonton:20230828T220000
DTSTAMP:20260424T123358
CREATED:20230711T194632Z
LAST-MODIFIED:20230711T194822Z
UID:61855-1693245600-1693260000@calgarypride.ca
SUMMARY:TD Inglewood/Ramsay Pride Patio Party: 5th Year Anniversary
DESCRIPTION:TD Inglewood/ Ramsay Presents our annual fundraising Pride Patio Party! Come join us at Ol’ Beautiful Brewery Co. on August 28th to celebrate pride and support 2SLGBTQIA+ refugees with the End of the Rainbow Foundation and Centre for Newcomers. End of the Rainbow has been supporting 2SLGBTQIA+ refugees for 5 years but there is still more work to do. Get your ticket today to support 2SLGBTQIA+ refugees today! \nThis year we have 3 new beer stations and an extended patio for you to enjoy\, along with the returning Balloon Gift Card Sale and Silent Auction! Watch for our announcement of a raffle. Our partners have incredible gifts to offer and we hope that you can join us for a night of Pride and Celebration of the incredible community here in Calgary! \n$30 admission / person gets you a free beer and a buffet style dinner (Pre-registration required) Donations beyond this amount are charitable. \nThank you to TD Bank for making this event possible and for your continued support. Thank you too to the fine Calgary restaurants who are donating food for all attendees. \nYour donations are greatly appreciated! We suggest a minimum $50. All funds will support the Calgary Rainbow Railroad Station\, aiding 2SLGBTQIA+ refugees in Calgary. Click Here to Donate: https://www.paypal.com/donate/?hosted_button_id=J4ABB2EAAMYRQ \nIf you have questions\, email events@endoftherainbow.ca. \nA Special thank you to Ol’ Beautiful Brewery Co.\, Righteous Gelato\, and John McNeill at Bamber Realty Ltd\, Century 21. \nIf you wish to Volunteer with the End of the Railroad Foundation\, visit: https://endoftherainbow.ca/volunteer/ For more information\, please visit our website: https://endoftherainbow.ca/ Charitable Registration Number: 100731660 RR 0001 \nPlease do not bring any animals to the event as it gets very crowed\, and animals can become overwhelmed. We want to keep everyone safe. A ticket purchase is required to receive a free beer and buffet dinner. This applies to one person per ticket.
URL:https://calgarypride.ca/event/td-inglewood-ramsay-pride-patio-party-5th-year-anniversary/
LOCATION:Ol’ Beautiful Brewing Co.\, 1103 12 Street Southeast Calgary\,\, Calgary\, Alberta\, AB T2G 3H7\, Canada
CATEGORIES:#OurPride,Community Event,Food & Drink
ATTACH;FMTTYPE=image/jpeg:https://calgarypride.ca/wp-content/uploads/2023/07/https___cdn.evbuc_.com_images_543093109_321196289815_1_original.jpeg
ORGANIZER;CN="End of the Rainbow Foundation":MAILTO:info@endoftherainbow.ca
END:VEVENT
BEGIN:VEVENT
DTSTART;VALUE=DATE:20230829
DTEND;VALUE=DATE:20230905
DTSTAMP:20260424T123358
CREATED:20230817T024131Z
LAST-MODIFIED:20230821T181151Z
UID:62073-1693281600-1693799999@calgarypride.ca
SUMMARY:Pride at the Backlot
DESCRIPTION:The Backlot celebrates 35 years of Pride in Calgary!\nALL BACKLOT PRIDE EVENTS HAVE FREE COVER \n29 Aug: The Backlot Experience Pride Addition\nDoors 9pm\, Show 10pm-1:30am\nJoin Natasha Brite for our open stage talent night! Drag! Comedy! Burlesque! You do it\, come and show it off! All performers Welcome!  \n30 Aug: Pride & Poetry\nQueer History Talk 6pm \, Free Verse Slam Poetry Pride Edition 7-10pm\nBrush up on Calgary’s Queer History with a talk from Kevin Allen from Calgary Gay History\, then stick around for Free Verse Calgary’s inaugural Backlot event with open mic poetry hosted by Tee Dyer. \n31 Aug: Queeraoke – 9pm-2am\nLet the divas sing\, darling! Join the Backlots marvellous karaoke host Kat to sing all your favourites and play Belt That Tune! to enter to win prizes throughout the night! \n1 Sept: Community BBQ & Glow Up\nBBQ 6-9pm \, Glow Up+Jury Duty 9pm\nGet the last burgers of the season from Chef E 46 Denis Storm as we kick off Pride Weekend with our Community Charity BBQ! Then\, get ready to turn a look and slay at the Glow Up costume ball and Jury Duty Drag show hosted by Empress 47 DW Meadows and Emperor 47 Sister Jac’o’licious Storm Boink. Contest categories are Pearly Whites\, Neon Dream-on\, and Raver Realness. Prizes will be awarded in each category and for over all Best in Show. \n2 Sept: Bawdy Bar\nUnderwear and Fetish Party 10pm-3am\nGet your blood pumping as Dj MzTzA turns up the heat all night long at our Underwear and Fetish party! Dress on up or striped on down in this fetish\, leather\, and kink friendly event\, so long as all the junk is wrapped up. Coat Check will be available during this event. \n3 Sept: Pride Patio Party\nDrag and Dancing 2pm-3am\nThe biggest day of all! Make your way to Backlot after the parade to enjoy community\, craziness\, drag\, and dancing! Our patio show kicks of with Amy Heff playing live at 2pm\, from 3pm-7pm enjoy local drag and performers and take part in our Wet Tops/Btms Contest (weather permitting) Then starting at 7pm we have Dj Kid V and Dj jhnnai back to back till 3. The Imperial Sovereign Court of the Chinook Arch will be on hand with 50/50 tickets and silent auction items up for grabs with all proceeds going to support the charities of Reign 47.
URL:https://calgarypride.ca/event/pride-at-the-backlot/
LOCATION:The Backlot\, 209\, 10th Avenue SW\, Calgary\, AB\, T2R 0A4\, Canada
CATEGORIES:Community Event
ATTACH;FMTTYPE=image/png:https://calgarypride.ca/wp-content/uploads/2023/08/Backlot-Pride-Teaser.png
END:VEVENT
BEGIN:VEVENT
DTSTART;TZID=America/Edmonton:20230829T190000
DTEND;TZID=America/Edmonton:20230829T210000
DTSTAMP:20260424T123358
CREATED:20230802T192124Z
LAST-MODIFIED:20230808T185319Z
UID:61933-1693335600-1693342800@calgarypride.ca
SUMMARY:Through the Multiverse: Queer Media Today - A lecture by Amy Villarejo
DESCRIPTION:While queer narratives and characters appear (ubiquitous) across media and platforms\, what kinds of stories claim our attention and interest? What priorities emerge as queer and trans lives are imperiled by assaults by the rabid right? This is less an attempt to survey the field than to take a few inspiring examples by queer and trans makers and submit them for our collective scrutiny and enjoyment.\nAmy Villarejo joined UCLA’s Department of Film\, Television\, and Digital Media in 2020. Her research focuses on queer cinema and media\, critical theory\, and television; most recently\, she has published the 3rd edition of Film Studies: The Basics (Routledge\, 2021) and the Oxford Handbook of Queer Cinema (with Ron Gregg\, Oxford UP\, 2021).
URL:https://calgarypride.ca/event/through-the-multiverse-queer-media-today-a-lecture-by-amy-villarejo/
LOCATION:Calgary Central Library\, 800 3 St SE\, Calgary\, AB\, T2G 0E7\, Canada
CATEGORIES:Community Event,Seminar
ATTACH;FMTTYPE=image/jpeg:https://calgarypride.ca/wp-content/uploads/2023/08/amy-villarejo-4-copy-scaled.jpg
END:VEVENT
END:VCALENDAR