BEGIN:VCALENDAR
VERSION:2.0
PRODID:-//Calgary Pride - ECPv6.15.20//NONSGML v1.0//EN
CALSCALE:GREGORIAN
METHOD:PUBLISH
X-WR-CALNAME:Calgary Pride
X-ORIGINAL-URL:https://calgarypride.ca
X-WR-CALDESC:Events for Calgary Pride
REFRESH-INTERVAL;VALUE=DURATION:PT1H
X-Robots-Tag:noindex
X-PUBLISHED-TTL:PT1H
BEGIN:VTIMEZONE
TZID:America/Edmonton
BEGIN:DAYLIGHT
TZOFFSETFROM:-0700
TZOFFSETTO:-0600
TZNAME:MDT
DTSTART:20220313T090000
END:DAYLIGHT
BEGIN:STANDARD
TZOFFSETFROM:-0600
TZOFFSETTO:-0700
TZNAME:MST
DTSTART:20221106T080000
END:STANDARD
BEGIN:DAYLIGHT
TZOFFSETFROM:-0700
TZOFFSETTO:-0600
TZNAME:MDT
DTSTART:20230312T090000
END:DAYLIGHT
BEGIN:STANDARD
TZOFFSETFROM:-0600
TZOFFSETTO:-0700
TZNAME:MST
DTSTART:20231105T080000
END:STANDARD
BEGIN:DAYLIGHT
TZOFFSETFROM:-0700
TZOFFSETTO:-0600
TZNAME:MDT
DTSTART:20240310T090000
END:DAYLIGHT
BEGIN:STANDARD
TZOFFSETFROM:-0600
TZOFFSETTO:-0700
TZNAME:MST
DTSTART:20241103T080000
END:STANDARD
END:VTIMEZONE
BEGIN:VEVENT
DTSTART;TZID=America/Edmonton:20230312T130000
DTEND;TZID=America/Edmonton:20230312T170000
DTSTAMP:20260424T045915
CREATED:20230306T191217Z
LAST-MODIFIED:20230306T191217Z
UID:60592-1678626000-1678640400@calgarypride.ca
SUMMARY:Queer Spring Market
DESCRIPTION:Lavender Club is holding their 4th Queer market\, this time to hopefully coax spring out. There will be over 30 vendors\, including Hemlock Tattoo who will be selling market exclusive tattoo flash\, and a table where free HIV self testing kills wil be available.
URL:https://calgarypride.ca/event/queer-spring-market/
LOCATION:116 7 ave SE\, 116 7 Ave SE\, Calgary\, Alberta\, Canada
ATTACH;FMTTYPE=image/png:https://calgarypride.ca/wp-content/uploads/2023/02/3C4EC632-BDA5-4906-9035-7F0CC11CA705.png
END:VEVENT
BEGIN:VEVENT
DTSTART;TZID=America/Edmonton:20230309T180000
DTEND;TZID=America/Edmonton:20230309T191000
DTSTAMP:20260424T045915
CREATED:20230214T192002Z
LAST-MODIFIED:20230214T192002Z
UID:60485-1678384800-1678389000@calgarypride.ca
SUMMARY:Now Whodunnit?\, at the Calgary Fringe Festival Fringe U Showcase Weekend
DESCRIPTION:Now\, Whodunnit! is an unscripted and participatory hour-long murder mystery flavoured with camp and circumstance! Join a cast of quirky characters who find themselves in the radius of a crime- as they all try to seem as innocent as possible\, and puzzle out relationships\, suspects and motives alike in this always-unique experience inspired by classics like Clue\, and new favourites like Knives Out that celebrates the true crime genre- without the truth! \nF Squared Improv is committed to creating respectful and professional spaces free from discrimination\, producing and performing in quality productions that all audiences can enjoy. We provide valuable oppurtunites for improvisers at all intersections of identity to practice and perform\, reflected by our cast featuring improvisers of all ages\, identities\, abilities\, and levels of experience\, and through our rehearsal and artist engagement practices\, which emphasize inclusion\, participation\, and developing skills for every “stage” in life! Simply put\, all are warmly invited to Come Play With Us! \nThis run of shows is hosted by Calgary Fringe as a part of its Fringe U Showcase Weekend\, featuring the work of graduate artist students from the 2022 Fall session of the Fringe U Artist Self-Producing Workshop Intensive; and through the support of Calgary Fringe organization\, we are able to offer accessible options to welcome everyone to enjoy our show: Livestreaming ticket options are available at the point of purchase\, as well as Pay What You Can tickets making it easy to enjoy your night out- or in with F Squared Improv’s Now\, Whodunnit!
URL:https://calgarypride.ca/event/now-whodunnit-at-the-calgary-fringe-festival-fringe-u-showcase-weekend/
LOCATION:The Grand\, 608 1St SW\, Calgary\, AB\, T2P 1M7\, Canada
CATEGORIES:comedy,Community Event
ATTACH;FMTTYPE=image/jpeg:https://calgarypride.ca/wp-content/uploads/2023/02/Now-Whodunnit.jpeg
ORGANIZER;CN="F Squared Improv":MAILTO:fsquaredimpro@gmail.com
END:VEVENT
END:VCALENDAR