BEGIN:VCALENDAR
VERSION:2.0
PRODID:-//Calgary Pride - ECPv6.15.20//NONSGML v1.0//EN
CALSCALE:GREGORIAN
METHOD:PUBLISH
X-ORIGINAL-URL:https://calgarypride.ca
X-WR-CALDESC:Events for Calgary Pride
REFRESH-INTERVAL;VALUE=DURATION:PT1H
X-Robots-Tag:noindex
X-PUBLISHED-TTL:PT1H
BEGIN:VTIMEZONE
TZID:America/Edmonton
BEGIN:DAYLIGHT
TZOFFSETFROM:-0700
TZOFFSETTO:-0600
TZNAME:MDT
DTSTART:20210314T090000
END:DAYLIGHT
BEGIN:STANDARD
TZOFFSETFROM:-0600
TZOFFSETTO:-0700
TZNAME:MST
DTSTART:20211107T080000
END:STANDARD
BEGIN:DAYLIGHT
TZOFFSETFROM:-0700
TZOFFSETTO:-0600
TZNAME:MDT
DTSTART:20220313T090000
END:DAYLIGHT
BEGIN:STANDARD
TZOFFSETFROM:-0600
TZOFFSETTO:-0700
TZNAME:MST
DTSTART:20221106T080000
END:STANDARD
BEGIN:DAYLIGHT
TZOFFSETFROM:-0700
TZOFFSETTO:-0600
TZNAME:MDT
DTSTART:20230312T090000
END:DAYLIGHT
BEGIN:STANDARD
TZOFFSETFROM:-0600
TZOFFSETTO:-0700
TZNAME:MST
DTSTART:20231105T080000
END:STANDARD
END:VTIMEZONE
BEGIN:VEVENT
DTSTART;TZID=America/Edmonton:20220923T183000
DTEND;TZID=America/Edmonton:20220923T230000
DTSTAMP:20260424T143855
CREATED:20220915T200132Z
LAST-MODIFIED:20220915T200238Z
UID:59891-1663957800-1663974000@calgarypride.ca
SUMMARY:Beakerhead has ignition and launches at TELUS Spark
DESCRIPTION:Beakerhead Has Ignition! Launching September 23rd at TELUS Spark. \nWelcome to an evening of connection\, catalytic conversation\, house-hacks\, and the beloved PechaKucha Night Calgary! This FREE evening will leave your brain bubbling and synapses firing like sparklers on a birthday cake. Join Beakerhead at the totally rad TELUS Spark from 6:30 – 11 PM and dive into the coolest of the coolest smash-up mash-ups of art and science right here at home in YYC. \nPechaKucha runs from 7:30 to 9:30 and guests must reserve a ticket: www.showpass.com/pechakucha-night-calgary-41-ignition \nFor more info\, look for Beakerhead on social media or visit www.sparkscience.ca/whats-on/beakerhead.
URL:https://calgarypride.ca/event/beakerhead-has-ignition-and-launches-at-telus-spark/
LOCATION:Telus Spark\, 220 St Georges Dr NE\, Calgary\, Alberta\, T2E 5T2\, Canada
ORGANIZER;CN="Beakerhead":MAILTO:connect@beakerhead.com
END:VEVENT
END:VCALENDAR