BEGIN:VCALENDAR
VERSION:2.0
PRODID:-//Calgary Pride - ECPv6.15.20//NONSGML v1.0//EN
CALSCALE:GREGORIAN
METHOD:PUBLISH
X-WR-CALNAME:Calgary Pride
X-ORIGINAL-URL:https://calgarypride.ca
X-WR-CALDESC:Events for Calgary Pride
REFRESH-INTERVAL;VALUE=DURATION:PT1H
X-Robots-Tag:noindex
X-PUBLISHED-TTL:PT1H
BEGIN:VTIMEZONE
TZID:America/Edmonton
BEGIN:DAYLIGHT
TZOFFSETFROM:-0700
TZOFFSETTO:-0600
TZNAME:MDT
DTSTART:20210314T090000
END:DAYLIGHT
BEGIN:STANDARD
TZOFFSETFROM:-0600
TZOFFSETTO:-0700
TZNAME:MST
DTSTART:20211107T080000
END:STANDARD
BEGIN:DAYLIGHT
TZOFFSETFROM:-0700
TZOFFSETTO:-0600
TZNAME:MDT
DTSTART:20220313T090000
END:DAYLIGHT
BEGIN:STANDARD
TZOFFSETFROM:-0600
TZOFFSETTO:-0700
TZNAME:MST
DTSTART:20221106T080000
END:STANDARD
BEGIN:DAYLIGHT
TZOFFSETFROM:-0700
TZOFFSETTO:-0600
TZNAME:MDT
DTSTART:20230312T090000
END:DAYLIGHT
BEGIN:STANDARD
TZOFFSETFROM:-0600
TZOFFSETTO:-0700
TZNAME:MST
DTSTART:20231105T080000
END:STANDARD
END:VTIMEZONE
BEGIN:VEVENT
DTSTART;VALUE=DATE:20220717
DTEND;VALUE=DATE:20220923
DTSTAMP:20260424T131500
CREATED:20220627T205631Z
LAST-MODIFIED:20220627T205631Z
UID:59079-1658030400-1663819199@calgarypride.ca
SUMMARY:Summer on 17th
DESCRIPTION:Summer on 17th is a massive free event taking place in Tomkins Park from July 1 to September 21. It will kick off on Canada Day with live music\, hoop dancing\, and tons of other performers from 11 a.m. to 4 p.m. and will continue with free events and live music from July 8 to July 16 for Stampede. Starting on July 17\, you can enjoy free events in Tomkins Park five days a week including live music\, outdoor fitness classes\, DJ and drag shows\, outdoor movies and more. There’s no shortage of things to do this Summer on 17th! Find full event details at www.17thave.ca/summer
URL:https://calgarypride.ca/event/summer-on-17th/
LOCATION:Tomkins Park\, 17th Ave SW & 8th Street SW\, Calgary\, AL\, T2R 1K1
ATTACH;FMTTYPE=image/jpeg:https://calgarypride.ca/wp-content/uploads/2022/06/summeron17th-1.jpg
ORGANIZER;CN="17th Ave":MAILTO:social@17thave.ca
END:VEVENT
BEGIN:VEVENT
DTSTART;VALUE=DATE:20220903
DTEND;VALUE=DATE:20220905
DTSTAMP:20260424T131500
CREATED:20220815T173705Z
LAST-MODIFIED:20220815T173705Z
UID:59483-1662177600-1662263999@calgarypride.ca
SUMMARY:Pride Slam
DESCRIPTION:This is our annual fun one-day tournament held Pride Weekend. \nPlayers register online and are randomly placed on teams. This is a great way to meet new people and have fun. There are prizes for the winning team as well as other fun things through out the day. Make sure to be a part of this tournament\, it sells out every year.
URL:https://calgarypride.ca/event/pride-slam/
LOCATION:Deerfoot Athletic Park\, 1503 Trans-Canada Hwy\, Calgary\, Alberta\, T2E 4S7\, Canada
CATEGORIES:Community Event,Signature Events
ATTACH;FMTTYPE=image/png:https://calgarypride.ca/wp-content/uploads/2022/08/Casa-Blue.png
ORGANIZER;CN="CASA League":MAILTO:casasoftballleague@gmail.com
END:VEVENT
BEGIN:VEVENT
DTSTART;TZID=America/Edmonton:20220903T080000
DTEND;TZID=America/Edmonton:20220903T150000
DTSTAMP:20260424T131500
CREATED:20220829T203855Z
LAST-MODIFIED:20220829T203855Z
UID:59824-1662192000-1662217200@calgarypride.ca
SUMMARY:Pride Hike And Picnic With Apollo Outdoor Pursuits
DESCRIPTION:For our annual pride hike we have scheduled an all ages EASY hike. The destination will be confirmed closer to the date (as we check the weather regularly and pick our hike destination where the weather forecast is the best). As part of the hike we are organizing a “pot luck picnic lunch”. Participants are encouraged to bring one shareable food item in their back pack to share with others during the lunch break on our hike. Celebrate pride week in the great outdoors with us! \nApollo Outdoor Pursuits welcomes members of the 2SLGBTQIA+ community and their friends and family and allies to this event. \nRSVP to ApolloOutdoorPursuits@shaw.ca
URL:https://calgarypride.ca/event/pride-hike-and-picnic-with-apollo-outdoor-pursuits/
LOCATION:Kananaskis Country
CATEGORIES:Community Event
ATTACH;FMTTYPE=image/jpeg:https://calgarypride.ca/wp-content/uploads/2022/08/Pride-Hike-1.jpg
END:VEVENT
BEGIN:VEVENT
DTSTART;TZID=America/Edmonton:20220903T080000
DTEND;TZID=America/Edmonton:20220904T010000
DTSTAMP:20260424T131500
CREATED:20220808T164531Z
LAST-MODIFIED:20220808T164531Z
UID:59434-1662192000-1662253200@calgarypride.ca
SUMMARY:Canadian Rockies Gay Rodeo Associations Drag Up - Hoe Down - Sep 3 Big Four Building on Stampede Park.
DESCRIPTION:CRGRA is proud to announce a two for one event at the Big Four Building on Saturday Sept 3.  The Big Four is a very large building and so we decided to split it into two.  We will be having Drag Shows (Drag Up) in one hall and Country and Western Music (Hoe Down) in the other hall.  All for one admission price.  Better yet purchase your tickets before Aug 27th at a discount.   Come watch some of your favorite drag performs such as Justyne Tyme and Terri Stevens along with community singing stars Patrick Masse from Vancouver\, Amy Bishop (Calgary) and the gay cowboy himself – Robert Adam.   Warm up the evening with some line dance lessons on the Country side.  Then wander over to watch some of the great drag entertainment\, wander back for some country music and club music and then wander back\, you get the idea.   Check out www.crgra.com for further information!
URL:https://calgarypride.ca/event/canadian-rockies-gay-rodeo-associations-drag-up-hoe-down-sep-3-big-four-building-on-stampede-park/
LOCATION:Big Four Building\, Stampede Park\, Calgary\, Canada
CATEGORIES:Band,Dance,DJ,Drag
ATTACH;FMTTYPE=image/jpeg:https://calgarypride.ca/wp-content/uploads/2022/08/Poster-for-Drag-up-Hoe-DownSep32022-005-1-v1.jpg
END:VEVENT
BEGIN:VEVENT
DTSTART;TZID=America/Edmonton:20220903T103000
DTEND;TZID=America/Edmonton:20220903T130000
DTSTAMP:20260424T131500
CREATED:20220725T220518Z
LAST-MODIFIED:20220725T220518Z
UID:59349-1662201000-1662210000@calgarypride.ca
SUMMARY:Pride Brunch in support of Camp fYrefly
DESCRIPTION:The Pride Brunch tradition you know and love is back!\nGuests will be treated to a spectacular brunch from the Westin\, heartwarming speeches and performances from youth\, drag performances and much more.\nDon’t forget to treat your table to a bottle of champagne to help support the cause. Pre-order with your tickets and it will be chilled and waiting at your table! (Additional bottles can be purchased at the event.) \nAbout Camp fYrefly\nCentre for Sexuality is proud to host Camp fYrefly Southern Alberta\, an educational\, social\, and personal learning retreat for 2SLGBTQ+ youth. Campers build lasting and meaningful connections and find a supportive community while taking part in workshops\, games\, activities\, and enjoying the great outdoors!\nProceeds from the brunch are used to ensure that there is no cost barrier for any youth to attend camp. \nThank you to the Calgary Foundation for their generous sponsorship of this event\, and thank you to Pacific Wine and Spirits for their champagne sponsorship.
URL:https://calgarypride.ca/event/pride-brunch-in-support-of-camp-fyrefly/
LOCATION:Westin Calgary: 320 4 Avenue SW\, 320 4 Avenue SW\, Calgary\, AB\, T2P 2S6\, Canada
CATEGORIES:Community Event,Drag
ATTACH;FMTTYPE=image/png:https://calgarypride.ca/wp-content/uploads/2022/07/Pride-Brunch-FB.png
ORGANIZER;CN="Centre for Sexuality":MAILTO:info@centreforsexuality.ca
END:VEVENT
BEGIN:VEVENT
DTSTART;TZID=America/Edmonton:20220903T110000
DTEND;TZID=America/Edmonton:20220903T170000
DTSTAMP:20260424T131500
CREATED:20220825T220535Z
LAST-MODIFIED:20220825T220535Z
UID:59783-1662202800-1662224400@calgarypride.ca
SUMMARY:Pride Drag Brunch at National on 8th Rooftop
DESCRIPTION:WERK’s iconic Pride Drag Brunch reaches new heights as it heads to the National on 8th rooftop patio! Hosted by Lilith Fair with Jack Fowle on decks\, the all-ages brunch will feature Kendall Gender & Stephanie Prince of Canada’s Drag Race\, a stacked lineup of local and national performers\, and of course\, a spread of delicious brunch food and drinks.
URL:https://calgarypride.ca/event/pride-drag-brunch-at-national-on-8th-rooftop/
LOCATION:National on 8th\, #360\, 240 8 Avenue SW\, Calgary\, AB\, T2P 2W3\, Canada
END:VEVENT
BEGIN:VEVENT
DTSTART;TZID=America/Edmonton:20220903T133000
DTEND;TZID=America/Edmonton:20220903T163000
DTSTAMP:20260424T131500
CREATED:20220819T195623Z
LAST-MODIFIED:20220819T195623Z
UID:59634-1662211800-1662222600@calgarypride.ca
SUMMARY:Cold Garden Pride 2022
DESCRIPTION:September 3\, 2022 (1:30 pm – 4:30 pm MT) Join us at Cold Garden’s Patio for our first ever Pride Celebration! We are an inclusive brewery and we want to spread this message with our beautiful community in Inglewood and all of Calgary. We will kick things off with The Love Bullies followed by an amazing Drag show hosted by Nada Nuff and her beautiful Queens Farrah Nuff\, Tangerine Dream and Birthday Girl. Come dance\, cheer\, listen and learn about Pride in Calgary. Family Friendly and free for everyone to attend. \nWith every Skittles Pride beer purchased we will be donating a dollar between two amazing organizations: Calgary Pride and Skipping Stones Foundation. \nThe Love Bullies – @lovebullies_band\nNada Nuff – @nada_nuff_\nFarrah Nuff – @farrah_nuff_\nTangerine Dream – @tangerinedream._\nBirthday Girl – @birthdaygirlyyc
URL:https://calgarypride.ca/event/cold-garden-pride-2022/
LOCATION:Cold Garden\, 1100 11 St SE\, Calgary\, Alberta\, T2G 4T3\, Canada
CATEGORIES:Community Event,Drag,Free,musician
ATTACH;FMTTYPE=image/png:https://calgarypride.ca/wp-content/uploads/2022/08/Cold-Garden-Pride-Tattoos_Full-Logo-FOR-PREVIEW-ONLY-1.png
ORGANIZER;CN="Cold Garden":MAILTO:drink@coldgarden.ca
END:VEVENT
BEGIN:VEVENT
DTSTART;TZID=America/Edmonton:20220903T133000
DTEND;TZID=America/Edmonton:20220903T170000
DTSTAMP:20260424T131500
CREATED:20220816T204640Z
LAST-MODIFIED:20220816T204640Z
UID:59538-1662211800-1662224400@calgarypride.ca
SUMMARY:Cold Garden Pride
DESCRIPTION:Join us at Cold Garden’s Patio for our first ever Pride Celebration! We are an inclusive brewery and we want to spread this message with our beautiful community in Inglewood and all of Calgary. We will kick things off with The Love Bullies followed by an amazing Drag show hosted by Nada Nuff and her beautiful Queens and finish things off with The Love Bullies again. Come dance\, cheer\, listen and learn about Pride in Calgary. Family Friendly and free for everyone to attend.
URL:https://calgarypride.ca/event/cold-garden-pride/
LOCATION:Cold Garden\, 1100 11 St SE\, Calgary\, Alberta\, T2G 4T3\, Canada
CATEGORIES:#OurPride,Band,Community Event,Drag - Group
ATTACH;FMTTYPE=image/png:https://calgarypride.ca/wp-content/uploads/2022/08/Cold-Garden-Pride-Tattoos_Full-Logo-FOR-PREVIEW-ONLY.png
ORGANIZER;CN="Cold Garden":MAILTO:drink@coldgarden.ca
END:VEVENT
BEGIN:VEVENT
DTSTART;TZID=America/Edmonton:20220902T160000
DTEND;TZID=America/Edmonton:20220902T220000
DTSTAMP:20260424T131500
CREATED:20220817T212401Z
LAST-MODIFIED:20220817T212401Z
UID:59582-1662134400-1662156000@calgarypride.ca
SUMMARY:2Spirit Divas: Indigi-queens United
DESCRIPTION:There are two opportunities to celebrate Pride on the Patio as part of Calgary Pride! 2Spirit Divas: Indigi-Queens United will be performing an amazing drag show on our ONEUP patio. Delicious food and drinks will be served and the evening will end with music by DJ Eddy. Suggested $10 minimum donation for the event\, all funds raised will be donated to Calgary Outlink. There is limited capacity for this event. You must have a ticket. \nFriday\, September 2 – Doors open at 4pm (Queens at 6:30) \nSaturday\, September 3 – Doors open at 2pm (Queens at 4:00\, DJ Eddy at 6:00) \nPerformances by 2Sprit Divas: Indigi-Queens: \n• Argintina Hailey-Lawrence – @argie_2019 \n• ThanksJem – @thanksjem \n• Delilah RoseGold – @delilah_rosegold \n• Lola Chokecherry \nSaturday evening finish the night with tunes by DJ Eddy @freelanceyyc
URL:https://calgarypride.ca/event/2spirit-divas-indigi-queens-united/
LOCATION:Marriott Calgary Downtown\, 110 9th ave se\, Calgary\, Alberta\, T2G 5A6
CATEGORIES:DJ,Drag,Food & Drink
ATTACH;FMTTYPE=image/png:https://calgarypride.ca/wp-content/uploads/2022/08/Pride-on-the-Patio-ONEUP-Sept-23-Indigi-Quees.png
ORGANIZER;CN="Marriott Calgary Downtown":MAILTO:Luke.Cox@marriott.com
END:VEVENT
BEGIN:VEVENT
DTSTART;TZID=America/Edmonton:20220903T150000
DTEND;TZID=America/Edmonton:20220903T200000
DTSTAMP:20260424T131500
CREATED:20220829T204120Z
LAST-MODIFIED:20220829T204121Z
UID:59830-1662217200-1662235200@calgarypride.ca
SUMMARY:Queer Arts Market
DESCRIPTION:Lavender Club presents a Queer Arts Market\, and a Queer Clothing Swap in collaboration with Pansy Club\, featuring all queer vendor\, pop-up drag\, and more.
URL:https://calgarypride.ca/event/queer-arts-market/
LOCATION:historic fire hall\, 144 6th Ave SE\, Calgary\, Alberta\, Canada
CATEGORIES:Drag
ATTACH;FMTTYPE=image/jpeg:https://calgarypride.ca/wp-content/uploads/2022/08/3737B15B-7D41-4250-8AB8-18717EBCAC73.jpeg
END:VEVENT
BEGIN:VEVENT
DTSTART;TZID=America/Edmonton:20220903T200000
DTEND;TZID=America/Edmonton:20220904T200000
DTSTAMP:20260424T131500
CREATED:20220815T173007Z
LAST-MODIFIED:20220815T173007Z
UID:59494-1662235200-1662321600@calgarypride.ca
SUMMARY:Drag Up - Hoe Down
DESCRIPTION:Amazing Drag performers hosted by Justine Tyme and Terri Stevens plus special guest performers from Calgary and B.C.\nSinging live B.C. Country recording artist Patrick Masse and local artist Amy Bishop plus line dancing leader Sean Buckley.\nDon’t miss out ! Going to be an awesome time with shows on both sides of the Big 4 Roadhouse.\nOne price gets you into both halls. Drag Extravaganza\, Live singers\, line dancing and club music !
URL:https://calgarypride.ca/event/drag-up-hoe-down/
LOCATION:Big Four Building\, Stampede Park\, Calgary\, Canada
CATEGORIES:Community Event,Dance,Drag - Group
ATTACH;FMTTYPE=image/jpeg:https://calgarypride.ca/wp-content/uploads/2022/08/1200x600Drag-Up_HoeDownBillboard-and-Ad-004.jpg
END:VEVENT
BEGIN:VEVENT
DTSTART;TZID=America/Edmonton:20220903T210000
DTEND;TZID=America/Edmonton:20220904T020000
DTSTAMP:20260424T131500
CREATED:20220829T204017Z
LAST-MODIFIED:20220829T204017Z
UID:59780-1662238800-1662256800@calgarypride.ca
SUMMARY:NSFW: Locker Room at Sub Rosa
DESCRIPTION:WERK’s NSFW (Not Safe For WERK) series returns to Sub Rosa for an adults-only night filled with gogo dancing performances\, Hush Lingerie on-site to help attendees explore their wilder side\, and music by Joanna Magik and Daddy Nick Bertossi of Vancouver.
URL:https://calgarypride.ca/event/nsfw-locker-room-at-sub-rosa/
LOCATION:Sub Rosa\, 200 8 Ave SW\, Calgary\, Alberta\, T2P 1B5\, Canada
ATTACH;FMTTYPE=image/jpeg:https://calgarypride.ca/wp-content/uploads/2022/08/Feed.jpg
END:VEVENT
BEGIN:VEVENT
DTSTART;TZID=America/Edmonton:20220903T210000
DTEND;TZID=America/Edmonton:20220904T033000
DTSTAMP:20260424T131500
CREATED:20220808T165317Z
LAST-MODIFIED:20220808T165317Z
UID:59411-1662238800-1662262200@calgarypride.ca
SUMMARY:Pure Pride Calgary- Brooke Lynn Hytes
DESCRIPTION:We are back! we will Pride in 2022! Pure Pride presents our 17th anniversary party\, the original official pride event of Edmonton and Calgary Pride! Starring the one and only Queen of the North\, Brooke Lynn Hytes! Brooke Lynn Hytes is star of Rupauls Drag Race season 11 and host of Canada’s Drag Race. Brooke Lynn will be doing a VIP Meet & Greet at 9 pm sharp \, for those who have Meet & Greet tickets then signature performances that will leave your jaw dropping! Joining the mainstage will be the famed local diva Argintina\, Lilith Fair and Whipped Cream. Dance the night away with international DJ Producer DJ Ginger Bear from Vancouver . As always there will be the hottest men and boys and lots of surprises! This Party has sold out 17 years in a row\, so get your tickets early!
URL:https://calgarypride.ca/event/pure-pride-calgary-brooke-lynn-hytes/
LOCATION:The Palace Theatre\, 219-8 ave SW\, Calgary\, AB\, T2P 1B7\, Canada
ATTACH;FMTTYPE=image/jpeg:https://calgarypride.ca/wp-content/uploads/2022/08/A8F46160-57B7-4A40-9749-F13B4C91AFF0-scaled.jpeg
END:VEVENT
BEGIN:VEVENT
DTSTART;TZID=America/Edmonton:20220903T220000
DTEND;TZID=America/Edmonton:20220904T220000
DTSTAMP:20260424T131500
CREATED:20220819T200156Z
LAST-MODIFIED:20220819T200156Z
UID:59624-1662242400-1662328800@calgarypride.ca
SUMMARY:Pansy Club Queer Dance Party
DESCRIPTION:It’s not a Pansy Club without a dance party 😘💘 \nAfter you’ve put together a new sexy gay lewk from our clothing swap\, join the Club on Sept 3rd from 10am until late for our queer dance after-party at Kaffeeklatsch 💖✨️\nAnd you know this Club has an exclusively queer af lineup of DJs that will keep you grooving late into the night ❤️‍🔥💫 \n🌟Featuring🌟\ntrexx 999\nvoid_vizionz\n&\nShatterTheFall \nCover is $10 or PWYC. All cover & donations will go to The Hatch! The Hatch runs the Kaffeeklatsch pantry\, along with other local community pantries. Please feel free to also bring food & supply donations for the pantry itself! Mutual aid let’s go~☆🌈\nPoster design by trexx 999
URL:https://calgarypride.ca/event/pansy-club-queer-dance-party/
LOCATION:Kaffeeklatsch\, 1205 1st Street SW\, Calgary\, Alberta\, T2R 0V3\, Canada
CATEGORIES:Community Event,Dance,DJ,Food & Drink
ATTACH;FMTTYPE=image/png:https://calgarypride.ca/wp-content/uploads/2022/08/pansy-club-sept-copy.png
ORGANIZER;CN="Pansy Club":MAILTO:pansyclubyyc@gmail.com
END:VEVENT
END:VCALENDAR