BEGIN:VCALENDAR
VERSION:2.0
PRODID:-//Calgary Pride - ECPv6.15.20//NONSGML v1.0//EN
CALSCALE:GREGORIAN
METHOD:PUBLISH
X-WR-CALNAME:Calgary Pride
X-ORIGINAL-URL:https://calgarypride.ca
X-WR-CALDESC:Events for Calgary Pride
REFRESH-INTERVAL;VALUE=DURATION:PT1H
X-Robots-Tag:noindex
X-PUBLISHED-TTL:PT1H
BEGIN:VTIMEZONE
TZID:America/Edmonton
BEGIN:DAYLIGHT
TZOFFSETFROM:-0700
TZOFFSETTO:-0600
TZNAME:MDT
DTSTART:20210314T090000
END:DAYLIGHT
BEGIN:STANDARD
TZOFFSETFROM:-0600
TZOFFSETTO:-0700
TZNAME:MST
DTSTART:20211107T080000
END:STANDARD
BEGIN:DAYLIGHT
TZOFFSETFROM:-0700
TZOFFSETTO:-0600
TZNAME:MDT
DTSTART:20220313T090000
END:DAYLIGHT
BEGIN:STANDARD
TZOFFSETFROM:-0600
TZOFFSETTO:-0700
TZNAME:MST
DTSTART:20221106T080000
END:STANDARD
BEGIN:DAYLIGHT
TZOFFSETFROM:-0700
TZOFFSETTO:-0600
TZNAME:MDT
DTSTART:20230312T090000
END:DAYLIGHT
BEGIN:STANDARD
TZOFFSETFROM:-0600
TZOFFSETTO:-0700
TZNAME:MST
DTSTART:20231105T080000
END:STANDARD
END:VTIMEZONE
BEGIN:VEVENT
DTSTART;VALUE=DATE:20220717
DTEND;VALUE=DATE:20220923
DTSTAMP:20260424T143447
CREATED:20220627T205631Z
LAST-MODIFIED:20220627T205631Z
UID:59079-1658030400-1663819199@calgarypride.ca
SUMMARY:Summer on 17th
DESCRIPTION:Summer on 17th is a massive free event taking place in Tomkins Park from July 1 to September 21. It will kick off on Canada Day with live music\, hoop dancing\, and tons of other performers from 11 a.m. to 4 p.m. and will continue with free events and live music from July 8 to July 16 for Stampede. Starting on July 17\, you can enjoy free events in Tomkins Park five days a week including live music\, outdoor fitness classes\, DJ and drag shows\, outdoor movies and more. There’s no shortage of things to do this Summer on 17th! Find full event details at www.17thave.ca/summer
URL:https://calgarypride.ca/event/summer-on-17th/
LOCATION:Tomkins Park\, 17th Ave SW & 8th Street SW\, Calgary\, AL\, T2R 1K1
ATTACH;FMTTYPE=image/jpeg:https://calgarypride.ca/wp-content/uploads/2022/06/summeron17th-1.jpg
ORGANIZER;CN="17th Ave":MAILTO:social@17thave.ca
END:VEVENT
BEGIN:VEVENT
DTSTART;TZID=America/Edmonton:20220901T173000
DTEND;TZID=America/Edmonton:20220901T203000
DTSTAMP:20260424T143447
CREATED:20220714T163153Z
LAST-MODIFIED:20220714T181359Z
UID:59315-1662053400-1662064200@calgarypride.ca
SUMMARY:Calgary ProPride
DESCRIPTION:On September 1st\, Pride at Work Canada will be in Calgary hosting an evening of networking and connecting with diversity\, equity\, and inclusion leaders\, 2SLGBTQIA+ professionals\, and job seekers in Calgary at the Calgary Public Library. \nThe evening’s festivities will include a panel discussion on how workplaces create a welcoming environment for 2SLGBTQIA+ youth and emerging professionals and a non-alcoholic networking reception. \nJoin us in person or virtually. Register now at https://prideatwork.ca/event/propride-20220901/ \nWhen: Thursday\, September 1\, 2022\, from 5:30 PM to 8:30 PM MDT (7:30 PM to 10:30 PM EDT)\nWhere: Calgary Public Library – Central Library – 800 3 St SE\, Calgary\, AB\nRegistration: 5:30 PM – 6:00 PM MDT\nPanel: 6:00 PM – 7:00 PM MDT\nReception: 7:00 PM – 8:30 PM MDT (non-alcoholic networking reception) \n#PrideAtWorkCanada #PAWC #Networking #Event #Panel #Discussion #Diversity #Inclusion #LGBT #2SLGBTQIA #Calgary #Pride #ProPride2022
URL:https://calgarypride.ca/event/calgary-propride/
LOCATION:Calgary Central Library\, 800 3 St SE\, Calgary\, AB\, T2G 0E7\, Canada
CATEGORIES:Community Event,Free,Seminar,Virtual
ATTACH;FMTTYPE=image/png:https://calgarypride.ca/wp-content/uploads/2022/07/PAWC_ProPride_Calgary_1080-×-1080_ENG.png
ORGANIZER;CN="Pride at Work Canada":MAILTO:info@prideatwork.ca
END:VEVENT
BEGIN:VEVENT
DTSTART;TZID=America/Edmonton:20220901T190000
DTEND;TZID=America/Edmonton:20220901T200000
DTSTAMP:20260424T143447
CREATED:20220823T172722Z
LAST-MODIFIED:20220823T172722Z
UID:59663-1662058800-1662062400@calgarypride.ca
SUMMARY:Hiking and Traveling with Pride
DESCRIPTION:Ben Berg and Larry Welsman are an adventuresome couple. In 2021\, to celebrate Ben’s turning 65\, they hiked to 65 summits\, walking 825 km’s in distance and gaining 73 km’s in elevation. By heading to the Yukon\, they completed a project started years ago\, to visit each and every Canadian province and territory. Ben’s talk will showcase some amazing images and video clips from the summit hikes\, as well as from their trips to the Arctic. Free registration on the Calgary Public Library’s web site is required to attend.
URL:https://calgarypride.ca/event/hiking-and-traveling-with-pride/
LOCATION:Memorial Park Library\, 1221 2 Street SW\, Calgary\, Alberta\, T2R 1N8\, Canada
CATEGORIES:Free
ATTACH;FMTTYPE=image/jpeg:https://calgarypride.ca/wp-content/uploads/2022/08/29twooclock-scaled.jpg
END:VEVENT
BEGIN:VEVENT
DTSTART;TZID=America/Edmonton:20220901T190000
DTEND;TZID=America/Edmonton:20220901T210000
DTSTAMP:20260424T143447
CREATED:20220818T181429Z
LAST-MODIFIED:20220818T181429Z
UID:59599-1662058800-1662066000@calgarypride.ca
SUMMARY:Drag Bingo with Nearah Nuff
DESCRIPTION:Nearah Nuff is Hot & Spicy\, she will twirl\, split\, and kick her way into your hearts! You just can’t get e-Nuff of her! \nIn honour of Pride we are hosting our very first Drag Bingo Night!\nEntrance includes two bingo cards!\nWe’ve partnered with some of our incredible neighbours to give you a chance to win 3 amazing prize sets. Thank you so much to Greenbriar Market and Refillery\, Rising Tides\, and Curvy Britches for the donations.\n$1 from the sales of our Pride beers and special cocktail along with a portion of ticket sales will be going to Calgary Outlink Center for gender and sexual diversity to help support the LGBTQ2S+ community we love so much.\nCan’t wait to see you all!
URL:https://calgarypride.ca/event/drag-bingo-with-nearah-nuff/
LOCATION:fringe coffee\, 4628 Bowness Rd NW\, Calgary\, Alberta\, T3B 0B3\, Canada
ATTACH;FMTTYPE=image/jpeg:https://calgarypride.ca/wp-content/uploads/2022/08/DragBingo_FullSize-scaled.jpg
END:VEVENT
END:VCALENDAR