BEGIN:VCALENDAR
VERSION:2.0
PRODID:-//Calgary Pride - ECPv6.15.20//NONSGML v1.0//EN
CALSCALE:GREGORIAN
METHOD:PUBLISH
X-WR-CALNAME:Calgary Pride
X-ORIGINAL-URL:https://calgarypride.ca
X-WR-CALDESC:Events for Calgary Pride
REFRESH-INTERVAL;VALUE=DURATION:PT1H
X-Robots-Tag:noindex
X-PUBLISHED-TTL:PT1H
BEGIN:VTIMEZONE
TZID:America/Edmonton
BEGIN:DAYLIGHT
TZOFFSETFROM:-0700
TZOFFSETTO:-0600
TZNAME:MDT
DTSTART:20210314T090000
END:DAYLIGHT
BEGIN:STANDARD
TZOFFSETFROM:-0600
TZOFFSETTO:-0700
TZNAME:MST
DTSTART:20211107T080000
END:STANDARD
BEGIN:DAYLIGHT
TZOFFSETFROM:-0700
TZOFFSETTO:-0600
TZNAME:MDT
DTSTART:20220313T090000
END:DAYLIGHT
BEGIN:STANDARD
TZOFFSETFROM:-0600
TZOFFSETTO:-0700
TZNAME:MST
DTSTART:20221106T080000
END:STANDARD
BEGIN:DAYLIGHT
TZOFFSETFROM:-0700
TZOFFSETTO:-0600
TZNAME:MDT
DTSTART:20230312T090000
END:DAYLIGHT
BEGIN:STANDARD
TZOFFSETFROM:-0600
TZOFFSETTO:-0700
TZNAME:MST
DTSTART:20231105T080000
END:STANDARD
END:VTIMEZONE
BEGIN:VEVENT
DTSTART;VALUE=DATE:20220708
DTEND;VALUE=DATE:20220718
DTSTAMP:20260424T184930
CREATED:20220627T205505Z
LAST-MODIFIED:20220627T205505Z
UID:59077-1657252800-1658030399@calgarypride.ca
SUMMARY:Summer on 17th\, Stampede Events
DESCRIPTION:As a part of 17th Ave’s Summer on 17th event\, celebrate Stampede in Tomkins Park with free events and live music happening from July 8 to July 16. From Sunday to Fridays\, you can catch live performances from 1 p.m. to 4 p.m. from artists including Brandon Lorenzo\, Lulahh n’ the Classic Crew and more\, and on Saturdays from 11 a.m. to 3 p.m.\, you can enjoy live music from Pistol Noon Band along with line dancers\, a calf roping machine and a mechanical bull from Girletz Rodeo. There’s no shortage of things to do this Summer on 17th!
URL:https://calgarypride.ca/event/summer-on-17th-stampede-events/
LOCATION:Tomkins Park\, 17th Ave SW & 8th Street SW\, Calgary\, AL\, T2R 1K1
ATTACH;FMTTYPE=image/jpeg:https://calgarypride.ca/wp-content/uploads/2022/06/stampede.jpg
ORGANIZER;CN="17th Ave":MAILTO:social@17thave.ca
END:VEVENT
BEGIN:VEVENT
DTSTART;TZID=America/Edmonton:20220716T120000
DTEND;TZID=America/Edmonton:20220716T170000
DTSTAMP:20260424T184930
CREATED:20220622T214554Z
LAST-MODIFIED:20220622T214554Z
UID:59064-1657972800-1657990800@calgarypride.ca
SUMMARY:Drag Me To Brunch
DESCRIPTION:COWBOYS MUSIC FESTIVAL PRESENTS: DRAG ME TO BRUNCH\nPartial Proceeds and On-Site Fundraising In Support of our DMTB Partners \nDATE: SATURDAY JULY 16TH\, 2022 \nGATES: 12PM  \nBRUNCH SERVED FROM 12PM – 3PM  \nVENUE: COWBOYS MUSIC FESTIVAL  \nGet your Boozy Brunch on at Cowboys Music Festival for DRAG ME TO BRUNCH – THE MOST LEGENDARY DRAG BRUNCH ON THE PLANET! Join us for performances by the incredible talent of YYC’s local drag artists: Farrah Nuff\, Angelina Starchild\, Felicia Bonée\, and Gemma Nye\, with a special performance by VOGUE YYC and Robert Adam and a special presentation from Mode Models! \nDRAG ME TO BRUNCH is thrilled to welcome live performances from RuPaul’s Drag Race Legends: MONET X CHANGE\, JINKX MONSOON\, YVIE ODDLY\, JAIDA ESSENCE HALL\, and LADY CAMDEN! Hosted by the ICONS\, TV Host and media personality MICHELLE VISAGE and one of the original Queer Eye’s “Fab Five” … CARSON KRESSLEY! \nCheck out some of our amazing partner socials in the upcoming week to find out how you can win tickets\, Meet + Greet’s and more!\nMode Models • Calgary Pride • Skipping Stone • Canadian Rockies Gay Rodeo • Gay Calgary • Calgary Outlink • SHARP Foundation • Centre for Sexuality • Pride in Business • End of the Rainbow • Doughnut Party • FREDDIE •  \nCowboys is committed to a culture of inclusivity and is working closely with our knowledgeable partners to deliver 2SLGBTQIA+ Education to over 700 staff this Stampede season. Gender-neutral bathrooms and accessibility viewing accommodations are available for the entire duration of Cowboys Music Festival\, including this event!
URL:https://calgarypride.ca/event/drag-me-to-brunch/
LOCATION:Cowboys Music Festival\, 421 12th Ave SE\, Calgary\, AB\, Canada
CATEGORIES:Drag
ATTACH;FMTTYPE=image/jpeg:https://calgarypride.ca/wp-content/uploads/2022/06/INSTA-POST-DRAG-ME-TO-BRUNCH-2022-JULY-16-2022-1080x1350px-3.jpg
END:VEVENT
END:VCALENDAR